BEGIN:VCALENDAR
VERSION:2.0
PRODID:-//Straw Dog Writers Guild - ECPv6.15.12.2//NONSGML v1.0//EN
CALSCALE:GREGORIAN
METHOD:PUBLISH
X-ORIGINAL-URL:https://strawdogwriters.org
X-WR-CALDESC:Events for Straw Dog Writers Guild
REFRESH-INTERVAL;VALUE=DURATION:PT1H
X-Robots-Tag:noindex
X-PUBLISHED-TTL:PT1H
BEGIN:VTIMEZONE
TZID:America/New_York
BEGIN:DAYLIGHT
TZOFFSETFROM:-0500
TZOFFSETTO:-0400
TZNAME:EDT
DTSTART:20240310T070000
END:DAYLIGHT
BEGIN:STANDARD
TZOFFSETFROM:-0400
TZOFFSETTO:-0500
TZNAME:EST
DTSTART:20241103T060000
END:STANDARD
BEGIN:DAYLIGHT
TZOFFSETFROM:-0500
TZOFFSETTO:-0400
TZNAME:EDT
DTSTART:20250309T070000
END:DAYLIGHT
BEGIN:STANDARD
TZOFFSETFROM:-0400
TZOFFSETTO:-0500
TZNAME:EST
DTSTART:20251102T060000
END:STANDARD
BEGIN:DAYLIGHT
TZOFFSETFROM:-0500
TZOFFSETTO:-0400
TZNAME:EDT
DTSTART:20260308T070000
END:DAYLIGHT
BEGIN:STANDARD
TZOFFSETFROM:-0400
TZOFFSETTO:-0500
TZNAME:EST
DTSTART:20261101T060000
END:STANDARD
END:VTIMEZONE
BEGIN:VEVENT
DTSTART;TZID=America/New_York:20250430T183000
DTEND;TZID=America/New_York:20250430T200000
DTSTAMP:20260421T071846
CREATED:20250313T180652Z
LAST-MODIFIED:20250313T192125Z
UID:10000855-1746037800-1746043200@strawdogwriters.org
SUMMARY:Wake Up Poetry Share
DESCRIPTION:What activities wake you up? What gets you going? Do you ever feel like you want to shake your friend\, neighbor\, or country awake? Find examples of your poems to read where you may feel pleading or demanding that people wake up\, where you feel inspired to start the day\, when all your cells are buzzing and you feel fully conscious? (And you don’t have any of your own\, find and read someone else’s poetry.) \nCome read and listen on Wednesday\, April 30\, 6:30-8:00pm in the Belding Memorial Library Meeting Room with poet Arianna Alexsandra Collins of Offerings for Community Building. Wine\, tea\, and treats will be served. \nThis program is free and open to the public. Please register by contacting Belding Memorial Library at bmlashfield@gmail.com or 413-628-4414.\nThe Library is located at 344 Main St. in Ashfield\, MA. \nSponsored by Belding Memorial Library and Straw Dog Writers Guild
URL:https://strawdogwriters.org/event/wake-up-poetry-share
LOCATION:Belding Memorial Library\, 344 Main Street\, Ashfield\, 01330\, United States
CATEGORIES:Events for Members,Poetry Share,Straw Dog Event
ATTACH;FMTTYPE=image/png:https://strawdogwriters.org/wp-content/uploads/2025/03/Wake-Up-Poetry-Share-graphic.png
ORGANIZER;CN="Belding Memorial Library":MAILTO:bmlashfield@gmail.com 
END:VEVENT
END:VCALENDAR