BEGIN:VCALENDAR
VERSION:2.0
PRODID:-//Straw Dog Writers Guild - ECPv6.15.12.2//NONSGML v1.0//EN
CALSCALE:GREGORIAN
METHOD:PUBLISH
X-ORIGINAL-URL:https://strawdogwriters.org
X-WR-CALDESC:Events for Straw Dog Writers Guild
REFRESH-INTERVAL;VALUE=DURATION:PT1H
X-Robots-Tag:noindex
X-PUBLISHED-TTL:PT1H
BEGIN:VTIMEZONE
TZID:America/New_York
BEGIN:DAYLIGHT
TZOFFSETFROM:-0500
TZOFFSETTO:-0400
TZNAME:EDT
DTSTART:20250309T070000
END:DAYLIGHT
BEGIN:STANDARD
TZOFFSETFROM:-0400
TZOFFSETTO:-0500
TZNAME:EST
DTSTART:20251102T060000
END:STANDARD
BEGIN:DAYLIGHT
TZOFFSETFROM:-0500
TZOFFSETTO:-0400
TZNAME:EDT
DTSTART:20260308T070000
END:DAYLIGHT
BEGIN:STANDARD
TZOFFSETFROM:-0400
TZOFFSETTO:-0500
TZNAME:EST
DTSTART:20261101T060000
END:STANDARD
BEGIN:DAYLIGHT
TZOFFSETFROM:-0500
TZOFFSETTO:-0400
TZNAME:EDT
DTSTART:20270314T070000
END:DAYLIGHT
BEGIN:STANDARD
TZOFFSETFROM:-0400
TZOFFSETTO:-0500
TZNAME:EST
DTSTART:20271107T060000
END:STANDARD
END:VTIMEZONE
BEGIN:VEVENT
DTSTART;TZID=America/New_York:20261006T180000
DTEND;TZID=America/New_York:20261006T200000
DTSTAMP:20260424T135804
CREATED:20260307T224609Z
LAST-MODIFIED:20260307T225705Z
UID:10001931-1791309600-1791316800@strawdogwriters.org
SUMMARY:Writers Night Out in October with Jason Prokowiew
DESCRIPTION:Join Straw Dog Writers Guild on Tuesday October 6th\, 6:00-8:00pm for Writers Night Out with featured writer Jason Prokowiew\, at Forbes Library. No registration required. If you want to participate in Open Mic and read\, please sign up by 5:50pm. Ten names will be randomly selected. Each reader will have five minutes. The second half of the evening showcases our Featured Reader. \nHosted by Jacqueline Sheehan\, Rick Paar and Beth Filson. \nJason Prokowiew received a PEN America and Fulbright Scholar Award for his memoir War Boys\, about his Russian father’s adoption by Nazis during WWII. His writing has appeared in The North American Review\, The Guardian\, Salon\, Roxane Gay’s “The Audacity\,” and on WORLD Channel’s Stories from the Stage\, where his piece “Sing” is the most watched in the show’s history. He lives on a lake in Massachusetts with his husband Dave and their greyhound Champ.
URL:https://strawdogwriters.org/event/writers-night-out-in-october-with-jason-prokowiew
LOCATION:Forbes Library\, Coolidge Museum\, 20 West Street\, Northampton\, 01060
CATEGORIES:Events for Members,Open Mic,Readings,Writers Night Out
ATTACH;FMTTYPE=image/png:https://strawdogwriters.org/wp-content/uploads/2026/03/26.10.6-WNO-at-Forbes-with-Jason-Prokowiew.png
ORGANIZER;CN="Straw Dog Writers Guild":MAILTO:admin@strawdogwriters.org
END:VEVENT
END:VCALENDAR