BEGIN:VCALENDAR
VERSION:2.0
PRODID:-//Straw Dog Writers Guild - ECPv6.15.12.2//NONSGML v1.0//EN
CALSCALE:GREGORIAN
METHOD:PUBLISH
X-ORIGINAL-URL:https://strawdogwriters.org
X-WR-CALDESC:Events for Straw Dog Writers Guild
REFRESH-INTERVAL;VALUE=DURATION:PT1H
X-Robots-Tag:noindex
X-PUBLISHED-TTL:PT1H
BEGIN:VTIMEZONE
TZID:America/New_York
BEGIN:DAYLIGHT
TZOFFSETFROM:-0500
TZOFFSETTO:-0400
TZNAME:EDT
DTSTART:20250309T070000
END:DAYLIGHT
BEGIN:STANDARD
TZOFFSETFROM:-0400
TZOFFSETTO:-0500
TZNAME:EST
DTSTART:20251102T060000
END:STANDARD
BEGIN:DAYLIGHT
TZOFFSETFROM:-0500
TZOFFSETTO:-0400
TZNAME:EDT
DTSTART:20260308T070000
END:DAYLIGHT
BEGIN:STANDARD
TZOFFSETFROM:-0400
TZOFFSETTO:-0500
TZNAME:EST
DTSTART:20261101T060000
END:STANDARD
BEGIN:DAYLIGHT
TZOFFSETFROM:-0500
TZOFFSETTO:-0400
TZNAME:EDT
DTSTART:20270314T070000
END:DAYLIGHT
BEGIN:STANDARD
TZOFFSETFROM:-0400
TZOFFSETTO:-0500
TZNAME:EST
DTSTART:20271107T060000
END:STANDARD
END:VTIMEZONE
BEGIN:VEVENT
DTSTART;TZID=America/New_York:20260602T180000
DTEND;TZID=America/New_York:20260602T200000
DTSTAMP:20260424T122836
CREATED:20260307T222126Z
LAST-MODIFIED:20260307T222126Z
UID:10001929-1780423200-1780430400@strawdogwriters.org
SUMMARY:Writers Night Out in June
DESCRIPTION:Join Straw Dog Writers Guild on Tuesday June 2nd\, 6:00-8:00pm for Writers Night Out with featured writer Ellen Meeropol\, at Forbes Library. No registration required. If you want to participate in Open Mic and read\, please sign up by 5:50pm. Ten names will be randomly selected. Each reader will have five minutes. The second half of the evening showcases our Featured Reader. \nHosted by Jacqueline Sheehan\, Rick Paar and Beth Filson. \nEllen Meeropol is the author of six novels\, Sometimes an Island\, The Lost Women of Azalea Court\, Her Sister’s Tattoo\, Kinship of Clover\, On Hurricane Island\, and House Arrest\, and guest editor for the anthology Dreams for a Broken World. Essay and story publications include Ms. Magazine\, Lilith\, The Writer Magazine\, The Boston Globe\, Solstice Magazine\, and Guernica. Her work has been a finalist for the Sarton Women’s Prize\, longlisted for a Massachusetts Book Award\, and selected by the Women’s National Book Association as a Great Group Reads. Ellen lives in western Massachusetts\, where she is a founding mother of Straw Dog Writers Guild and on the planning committee for the WriteAngles Writers Conference.
URL:https://strawdogwriters.org/event/writers-night-out-in-june-5
LOCATION:Forbes Library\, Coolidge Museum\, 20 West Street\, Northampton\, 01060
CATEGORIES:Events for Members,Open Mic,Readings,Writers Night Out
ATTACH;FMTTYPE=image/png:https://strawdogwriters.org/wp-content/uploads/2026/03/26.6.2-WNO-at-Forbes-with-Ellen-Meeropol.png
ORGANIZER;CN="Straw Dog Writers Guild":MAILTO:admin@strawdogwriters.org
END:VEVENT
BEGIN:VEVENT
DTSTART;TZID=America/New_York:20260611T184500
DTEND;TZID=America/New_York:20260611T193000
DTSTAMP:20260424T122836
CREATED:20260407T171135Z
LAST-MODIFIED:20260407T171135Z
UID:10001942-1781203500-1781206200@strawdogwriters.org
SUMMARY:A Writer's Night in June with Ellen Meeropol
DESCRIPTION:Straw Dog Writers Guild and Longmeadow Adult Center present author Ellen Meeropol for A Writer’s Night on Thursday\, June 11th from 6:45-7:30pm at the Longmeadow Adult Center. \nEllen Meeropol is the author of six novels\, Sometimes an Island\, The Lost Women of Azalea Court\, Her Sister’s Tattoo\, Kinship of Clover\, On Hurricane Island\, and House Arrest\, and guest editor for the anthology Dreams for a Broken World. Essay and story publications include Ms. Magazine\, Lilith\, The Writer Magazine\, The Boston Globe\, Solstice Magazine\, and Guernica. Her work has been a finalist for the Sarton Women’s Prize\, longlisted for a Massachusetts Book Award\, and selected by the Women’s National Book Association as a Great Group Reads. Ellen lives in western Massachusetts\, where she is a founding mother of Straw Dog Writers Guild and on the planning committee for the WriteAngles Writers Conference. \nYou may register by calling 413-565-4150\, option 1. Or you can just show up. The Longmeadow Adult Center is located at 211 Maple Road\, Longmeadow.Island
URL:https://strawdogwriters.org/event/a-writers-night-in-june-with-ellen-meeropol
LOCATION:The Longmeadow Adult Center\, 211 Maple Road\, Longmeadow\, MA\, United States
CATEGORIES:A Writer's Night,Events for Members,Readings,Straw Dog Event
ATTACH;FMTTYPE=image/png:https://strawdogwriters.org/wp-content/uploads/2026/04/26.06.11-A-Writers-Night-with-Ellen-Meeropol.png
ORGANIZER;CN="Straw Dog Writers Guild":MAILTO:admin@strawdogwriters.org
END:VEVENT
END:VCALENDAR