BEGIN:VCALENDAR
VERSION:2.0
PRODID:-//Straw Dog Writers Guild - ECPv6.15.12.2//NONSGML v1.0//EN
CALSCALE:GREGORIAN
METHOD:PUBLISH
X-ORIGINAL-URL:https://strawdogwriters.org
X-WR-CALDESC:Events for Straw Dog Writers Guild
REFRESH-INTERVAL;VALUE=DURATION:PT1H
X-Robots-Tag:noindex
X-PUBLISHED-TTL:PT1H
BEGIN:VTIMEZONE
TZID:America/New_York
BEGIN:DAYLIGHT
TZOFFSETFROM:-0500
TZOFFSETTO:-0400
TZNAME:EDT
DTSTART:20270314T070000
END:DAYLIGHT
BEGIN:STANDARD
TZOFFSETFROM:-0400
TZOFFSETTO:-0500
TZNAME:EST
DTSTART:20271107T060000
END:STANDARD
BEGIN:DAYLIGHT
TZOFFSETFROM:-0500
TZOFFSETTO:-0400
TZNAME:EDT
DTSTART:20280312T070000
END:DAYLIGHT
BEGIN:STANDARD
TZOFFSETFROM:-0400
TZOFFSETTO:-0500
TZNAME:EST
DTSTART:20281105T060000
END:STANDARD
BEGIN:DAYLIGHT
TZOFFSETFROM:-0500
TZOFFSETTO:-0400
TZNAME:EDT
DTSTART:20290311T070000
END:DAYLIGHT
BEGIN:STANDARD
TZOFFSETFROM:-0400
TZOFFSETTO:-0500
TZNAME:EST
DTSTART:20291104T060000
END:STANDARD
BEGIN:DAYLIGHT
TZOFFSETFROM:-0500
TZOFFSETTO:-0400
TZNAME:EDT
DTSTART:20300310T070000
END:DAYLIGHT
BEGIN:STANDARD
TZOFFSETFROM:-0400
TZOFFSETTO:-0500
TZNAME:EST
DTSTART:20301103T060000
END:STANDARD
BEGIN:DAYLIGHT
TZOFFSETFROM:-0500
TZOFFSETTO:-0400
TZNAME:EDT
DTSTART:20310309T070000
END:DAYLIGHT
BEGIN:STANDARD
TZOFFSETFROM:-0400
TZOFFSETTO:-0500
TZNAME:EST
DTSTART:20311102T060000
END:STANDARD
BEGIN:DAYLIGHT
TZOFFSETFROM:-0500
TZOFFSETTO:-0400
TZNAME:EDT
DTSTART:20320314T070000
END:DAYLIGHT
BEGIN:STANDARD
TZOFFSETFROM:-0400
TZOFFSETTO:-0500
TZNAME:EST
DTSTART:20321107T060000
END:STANDARD
END:VTIMEZONE
BEGIN:VEVENT
DTSTART;TZID=America/New_York:20281112T180000
DTEND;TZID=America/New_York:20281112T200000
DTSTAMP:20260421T134545
CREATED:20251206T133213Z
LAST-MODIFIED:20260216T233509Z
UID:10001840-1857664800-1857672000@strawdogwriters.org
SUMMARY:Second Sundays Virtual Open Mic
DESCRIPTION:Come create community on second Sundays of every month 6-8pm EST with a virtual open mic on zoom.\nPlease contact Lindsay Rockwell for zoom link if interested: emonrock@mac.com \nFormat Focus: EVERYONE READS! \n\nCo-create and reading and listening experience that is generous\, dynamic\, and heart-felt.\nRead a 3-minute piece\nBrief positive responses after readers share\nListeners welcome
URL:https://strawdogwriters.org/event/15452/2028-11-12
CATEGORIES:Events for Members,Open Mic,Straw Dog Event
ATTACH;FMTTYPE=image/png:https://strawdogwriters.org/wp-content/uploads/2025/12/Everyone-Reads-2nd-Sundays-updated.png
END:VEVENT
BEGIN:VEVENT
DTSTART;TZID=America/New_York:20281210T180000
DTEND;TZID=America/New_York:20281210T200000
DTSTAMP:20260421T134545
CREATED:20251206T133213Z
LAST-MODIFIED:20260216T233509Z
UID:10001841-1860084000-1860091200@strawdogwriters.org
SUMMARY:Second Sundays Virtual Open Mic
DESCRIPTION:Come create community on second Sundays of every month 6-8pm EST with a virtual open mic on zoom.\nPlease contact Lindsay Rockwell for zoom link if interested: emonrock@mac.com \nFormat Focus: EVERYONE READS! \n\nCo-create and reading and listening experience that is generous\, dynamic\, and heart-felt.\nRead a 3-minute piece\nBrief positive responses after readers share\nListeners welcome
URL:https://strawdogwriters.org/event/15452/2028-12-10
CATEGORIES:Events for Members,Open Mic,Straw Dog Event
ATTACH;FMTTYPE=image/png:https://strawdogwriters.org/wp-content/uploads/2025/12/Everyone-Reads-2nd-Sundays-updated.png
END:VEVENT
BEGIN:VEVENT
DTSTART;TZID=America/New_York:20290114T180000
DTEND;TZID=America/New_York:20290114T200000
DTSTAMP:20260421T134545
CREATED:20251206T133213Z
LAST-MODIFIED:20260216T233509Z
UID:10001842-1863108000-1863115200@strawdogwriters.org
SUMMARY:Second Sundays Virtual Open Mic
DESCRIPTION:Come create community on second Sundays of every month 6-8pm EST with a virtual open mic on zoom.\nPlease contact Lindsay Rockwell for zoom link if interested: emonrock@mac.com \nFormat Focus: EVERYONE READS! \n\nCo-create and reading and listening experience that is generous\, dynamic\, and heart-felt.\nRead a 3-minute piece\nBrief positive responses after readers share\nListeners welcome
URL:https://strawdogwriters.org/event/15452/2029-01-14
CATEGORIES:Events for Members,Open Mic,Straw Dog Event
ATTACH;FMTTYPE=image/png:https://strawdogwriters.org/wp-content/uploads/2025/12/Everyone-Reads-2nd-Sundays-updated.png
END:VEVENT
BEGIN:VEVENT
DTSTART;TZID=America/New_York:20290211T180000
DTEND;TZID=America/New_York:20290211T200000
DTSTAMP:20260421T134545
CREATED:20251206T133213Z
LAST-MODIFIED:20260216T233509Z
UID:10001843-1865527200-1865534400@strawdogwriters.org
SUMMARY:Second Sundays Virtual Open Mic
DESCRIPTION:Come create community on second Sundays of every month 6-8pm EST with a virtual open mic on zoom.\nPlease contact Lindsay Rockwell for zoom link if interested: emonrock@mac.com \nFormat Focus: EVERYONE READS! \n\nCo-create and reading and listening experience that is generous\, dynamic\, and heart-felt.\nRead a 3-minute piece\nBrief positive responses after readers share\nListeners welcome
URL:https://strawdogwriters.org/event/15452/2029-02-11
CATEGORIES:Events for Members,Open Mic,Straw Dog Event
ATTACH;FMTTYPE=image/png:https://strawdogwriters.org/wp-content/uploads/2025/12/Everyone-Reads-2nd-Sundays-updated.png
END:VEVENT
BEGIN:VEVENT
DTSTART;TZID=America/New_York:20290311T180000
DTEND;TZID=America/New_York:20290311T200000
DTSTAMP:20260421T134545
CREATED:20251206T133213Z
LAST-MODIFIED:20260216T233509Z
UID:10001844-1867946400-1867953600@strawdogwriters.org
SUMMARY:Second Sundays Virtual Open Mic
DESCRIPTION:Come create community on second Sundays of every month 6-8pm EST with a virtual open mic on zoom.\nPlease contact Lindsay Rockwell for zoom link if interested: emonrock@mac.com \nFormat Focus: EVERYONE READS! \n\nCo-create and reading and listening experience that is generous\, dynamic\, and heart-felt.\nRead a 3-minute piece\nBrief positive responses after readers share\nListeners welcome
URL:https://strawdogwriters.org/event/15452/2029-03-11
CATEGORIES:Events for Members,Open Mic,Straw Dog Event
ATTACH;FMTTYPE=image/png:https://strawdogwriters.org/wp-content/uploads/2025/12/Everyone-Reads-2nd-Sundays-updated.png
END:VEVENT
BEGIN:VEVENT
DTSTART;TZID=America/New_York:20290408T180000
DTEND;TZID=America/New_York:20290408T200000
DTSTAMP:20260421T134545
CREATED:20251206T133213Z
LAST-MODIFIED:20260216T233509Z
UID:10001845-1870365600-1870372800@strawdogwriters.org
SUMMARY:Second Sundays Virtual Open Mic
DESCRIPTION:Come create community on second Sundays of every month 6-8pm EST with a virtual open mic on zoom.\nPlease contact Lindsay Rockwell for zoom link if interested: emonrock@mac.com \nFormat Focus: EVERYONE READS! \n\nCo-create and reading and listening experience that is generous\, dynamic\, and heart-felt.\nRead a 3-minute piece\nBrief positive responses after readers share\nListeners welcome
URL:https://strawdogwriters.org/event/15452/2029-04-08
CATEGORIES:Events for Members,Open Mic,Straw Dog Event
ATTACH;FMTTYPE=image/png:https://strawdogwriters.org/wp-content/uploads/2025/12/Everyone-Reads-2nd-Sundays-updated.png
END:VEVENT
BEGIN:VEVENT
DTSTART;TZID=America/New_York:20290513T180000
DTEND;TZID=America/New_York:20290513T200000
DTSTAMP:20260421T134545
CREATED:20251206T133213Z
LAST-MODIFIED:20260216T233509Z
UID:10001846-1873389600-1873396800@strawdogwriters.org
SUMMARY:Second Sundays Virtual Open Mic
DESCRIPTION:Come create community on second Sundays of every month 6-8pm EST with a virtual open mic on zoom.\nPlease contact Lindsay Rockwell for zoom link if interested: emonrock@mac.com \nFormat Focus: EVERYONE READS! \n\nCo-create and reading and listening experience that is generous\, dynamic\, and heart-felt.\nRead a 3-minute piece\nBrief positive responses after readers share\nListeners welcome
URL:https://strawdogwriters.org/event/15452/2029-05-13
CATEGORIES:Events for Members,Open Mic,Straw Dog Event
ATTACH;FMTTYPE=image/png:https://strawdogwriters.org/wp-content/uploads/2025/12/Everyone-Reads-2nd-Sundays-updated.png
END:VEVENT
BEGIN:VEVENT
DTSTART;TZID=America/New_York:20290610T180000
DTEND;TZID=America/New_York:20290610T200000
DTSTAMP:20260421T134545
CREATED:20251206T133213Z
LAST-MODIFIED:20260216T233509Z
UID:10001847-1875808800-1875816000@strawdogwriters.org
SUMMARY:Second Sundays Virtual Open Mic
DESCRIPTION:Come create community on second Sundays of every month 6-8pm EST with a virtual open mic on zoom.\nPlease contact Lindsay Rockwell for zoom link if interested: emonrock@mac.com \nFormat Focus: EVERYONE READS! \n\nCo-create and reading and listening experience that is generous\, dynamic\, and heart-felt.\nRead a 3-minute piece\nBrief positive responses after readers share\nListeners welcome
URL:https://strawdogwriters.org/event/15452/2029-06-10
CATEGORIES:Events for Members,Open Mic,Straw Dog Event
ATTACH;FMTTYPE=image/png:https://strawdogwriters.org/wp-content/uploads/2025/12/Everyone-Reads-2nd-Sundays-updated.png
END:VEVENT
BEGIN:VEVENT
DTSTART;TZID=America/New_York:20290708T180000
DTEND;TZID=America/New_York:20290708T200000
DTSTAMP:20260421T134545
CREATED:20251206T133213Z
LAST-MODIFIED:20260216T233509Z
UID:10001848-1878228000-1878235200@strawdogwriters.org
SUMMARY:Second Sundays Virtual Open Mic
DESCRIPTION:Come create community on second Sundays of every month 6-8pm EST with a virtual open mic on zoom.\nPlease contact Lindsay Rockwell for zoom link if interested: emonrock@mac.com \nFormat Focus: EVERYONE READS! \n\nCo-create and reading and listening experience that is generous\, dynamic\, and heart-felt.\nRead a 3-minute piece\nBrief positive responses after readers share\nListeners welcome
URL:https://strawdogwriters.org/event/15452/2029-07-08
CATEGORIES:Events for Members,Open Mic,Straw Dog Event
ATTACH;FMTTYPE=image/png:https://strawdogwriters.org/wp-content/uploads/2025/12/Everyone-Reads-2nd-Sundays-updated.png
END:VEVENT
BEGIN:VEVENT
DTSTART;TZID=America/New_York:20290812T180000
DTEND;TZID=America/New_York:20290812T200000
DTSTAMP:20260421T134545
CREATED:20251206T133213Z
LAST-MODIFIED:20260216T233509Z
UID:10001849-1881252000-1881259200@strawdogwriters.org
SUMMARY:Second Sundays Virtual Open Mic
DESCRIPTION:Come create community on second Sundays of every month 6-8pm EST with a virtual open mic on zoom.\nPlease contact Lindsay Rockwell for zoom link if interested: emonrock@mac.com \nFormat Focus: EVERYONE READS! \n\nCo-create and reading and listening experience that is generous\, dynamic\, and heart-felt.\nRead a 3-minute piece\nBrief positive responses after readers share\nListeners welcome
URL:https://strawdogwriters.org/event/15452/2029-08-12
CATEGORIES:Events for Members,Open Mic,Straw Dog Event
ATTACH;FMTTYPE=image/png:https://strawdogwriters.org/wp-content/uploads/2025/12/Everyone-Reads-2nd-Sundays-updated.png
END:VEVENT
BEGIN:VEVENT
DTSTART;TZID=America/New_York:20290909T180000
DTEND;TZID=America/New_York:20290909T200000
DTSTAMP:20260421T134545
CREATED:20251206T133213Z
LAST-MODIFIED:20260216T233509Z
UID:10001850-1883671200-1883678400@strawdogwriters.org
SUMMARY:Second Sundays Virtual Open Mic
DESCRIPTION:Come create community on second Sundays of every month 6-8pm EST with a virtual open mic on zoom.\nPlease contact Lindsay Rockwell for zoom link if interested: emonrock@mac.com \nFormat Focus: EVERYONE READS! \n\nCo-create and reading and listening experience that is generous\, dynamic\, and heart-felt.\nRead a 3-minute piece\nBrief positive responses after readers share\nListeners welcome
URL:https://strawdogwriters.org/event/15452/2029-09-09
CATEGORIES:Events for Members,Open Mic,Straw Dog Event
ATTACH;FMTTYPE=image/png:https://strawdogwriters.org/wp-content/uploads/2025/12/Everyone-Reads-2nd-Sundays-updated.png
END:VEVENT
BEGIN:VEVENT
DTSTART;TZID=America/New_York:20291014T180000
DTEND;TZID=America/New_York:20291014T200000
DTSTAMP:20260421T134545
CREATED:20251206T133213Z
LAST-MODIFIED:20260216T233509Z
UID:10001851-1886695200-1886702400@strawdogwriters.org
SUMMARY:Second Sundays Virtual Open Mic
DESCRIPTION:Come create community on second Sundays of every month 6-8pm EST with a virtual open mic on zoom.\nPlease contact Lindsay Rockwell for zoom link if interested: emonrock@mac.com \nFormat Focus: EVERYONE READS! \n\nCo-create and reading and listening experience that is generous\, dynamic\, and heart-felt.\nRead a 3-minute piece\nBrief positive responses after readers share\nListeners welcome
URL:https://strawdogwriters.org/event/15452/2029-10-14
CATEGORIES:Events for Members,Open Mic,Straw Dog Event
ATTACH;FMTTYPE=image/png:https://strawdogwriters.org/wp-content/uploads/2025/12/Everyone-Reads-2nd-Sundays-updated.png
END:VEVENT
BEGIN:VEVENT
DTSTART;TZID=America/New_York:20291111T180000
DTEND;TZID=America/New_York:20291111T200000
DTSTAMP:20260421T134545
CREATED:20251206T133213Z
LAST-MODIFIED:20260216T233509Z
UID:10001852-1889114400-1889121600@strawdogwriters.org
SUMMARY:Second Sundays Virtual Open Mic
DESCRIPTION:Come create community on second Sundays of every month 6-8pm EST with a virtual open mic on zoom.\nPlease contact Lindsay Rockwell for zoom link if interested: emonrock@mac.com \nFormat Focus: EVERYONE READS! \n\nCo-create and reading and listening experience that is generous\, dynamic\, and heart-felt.\nRead a 3-minute piece\nBrief positive responses after readers share\nListeners welcome
URL:https://strawdogwriters.org/event/15452/2029-11-11
CATEGORIES:Events for Members,Open Mic,Straw Dog Event
ATTACH;FMTTYPE=image/png:https://strawdogwriters.org/wp-content/uploads/2025/12/Everyone-Reads-2nd-Sundays-updated.png
END:VEVENT
BEGIN:VEVENT
DTSTART;TZID=America/New_York:20291209T180000
DTEND;TZID=America/New_York:20291209T200000
DTSTAMP:20260421T134545
CREATED:20251206T133213Z
LAST-MODIFIED:20260216T233509Z
UID:10001853-1891533600-1891540800@strawdogwriters.org
SUMMARY:Second Sundays Virtual Open Mic
DESCRIPTION:Come create community on second Sundays of every month 6-8pm EST with a virtual open mic on zoom.\nPlease contact Lindsay Rockwell for zoom link if interested: emonrock@mac.com \nFormat Focus: EVERYONE READS! \n\nCo-create and reading and listening experience that is generous\, dynamic\, and heart-felt.\nRead a 3-minute piece\nBrief positive responses after readers share\nListeners welcome
URL:https://strawdogwriters.org/event/15452/2029-12-09
CATEGORIES:Events for Members,Open Mic,Straw Dog Event
ATTACH;FMTTYPE=image/png:https://strawdogwriters.org/wp-content/uploads/2025/12/Everyone-Reads-2nd-Sundays-updated.png
END:VEVENT
BEGIN:VEVENT
DTSTART;TZID=America/New_York:20300113T180000
DTEND;TZID=America/New_York:20300113T200000
DTSTAMP:20260421T134545
CREATED:20251206T133213Z
LAST-MODIFIED:20260216T233509Z
UID:10001854-1894557600-1894564800@strawdogwriters.org
SUMMARY:Second Sundays Virtual Open Mic
DESCRIPTION:Come create community on second Sundays of every month 6-8pm EST with a virtual open mic on zoom.\nPlease contact Lindsay Rockwell for zoom link if interested: emonrock@mac.com \nFormat Focus: EVERYONE READS! \n\nCo-create and reading and listening experience that is generous\, dynamic\, and heart-felt.\nRead a 3-minute piece\nBrief positive responses after readers share\nListeners welcome
URL:https://strawdogwriters.org/event/15452/2030-01-13
CATEGORIES:Events for Members,Open Mic,Straw Dog Event
ATTACH;FMTTYPE=image/png:https://strawdogwriters.org/wp-content/uploads/2025/12/Everyone-Reads-2nd-Sundays-updated.png
END:VEVENT
BEGIN:VEVENT
DTSTART;TZID=America/New_York:20300210T180000
DTEND;TZID=America/New_York:20300210T200000
DTSTAMP:20260421T134545
CREATED:20251206T133213Z
LAST-MODIFIED:20260216T233509Z
UID:10001855-1896976800-1896984000@strawdogwriters.org
SUMMARY:Second Sundays Virtual Open Mic
DESCRIPTION:Come create community on second Sundays of every month 6-8pm EST with a virtual open mic on zoom.\nPlease contact Lindsay Rockwell for zoom link if interested: emonrock@mac.com \nFormat Focus: EVERYONE READS! \n\nCo-create and reading and listening experience that is generous\, dynamic\, and heart-felt.\nRead a 3-minute piece\nBrief positive responses after readers share\nListeners welcome
URL:https://strawdogwriters.org/event/15452/2030-02-10
CATEGORIES:Events for Members,Open Mic,Straw Dog Event
ATTACH;FMTTYPE=image/png:https://strawdogwriters.org/wp-content/uploads/2025/12/Everyone-Reads-2nd-Sundays-updated.png
END:VEVENT
BEGIN:VEVENT
DTSTART;TZID=America/New_York:20300310T180000
DTEND;TZID=America/New_York:20300310T200000
DTSTAMP:20260421T134545
CREATED:20251206T133213Z
LAST-MODIFIED:20260216T233509Z
UID:10001856-1899396000-1899403200@strawdogwriters.org
SUMMARY:Second Sundays Virtual Open Mic
DESCRIPTION:Come create community on second Sundays of every month 6-8pm EST with a virtual open mic on zoom.\nPlease contact Lindsay Rockwell for zoom link if interested: emonrock@mac.com \nFormat Focus: EVERYONE READS! \n\nCo-create and reading and listening experience that is generous\, dynamic\, and heart-felt.\nRead a 3-minute piece\nBrief positive responses after readers share\nListeners welcome
URL:https://strawdogwriters.org/event/15452/2030-03-10
CATEGORIES:Events for Members,Open Mic,Straw Dog Event
ATTACH;FMTTYPE=image/png:https://strawdogwriters.org/wp-content/uploads/2025/12/Everyone-Reads-2nd-Sundays-updated.png
END:VEVENT
BEGIN:VEVENT
DTSTART;TZID=America/New_York:20300414T180000
DTEND;TZID=America/New_York:20300414T200000
DTSTAMP:20260421T134545
CREATED:20251206T133213Z
LAST-MODIFIED:20260216T233509Z
UID:10001857-1902420000-1902427200@strawdogwriters.org
SUMMARY:Second Sundays Virtual Open Mic
DESCRIPTION:Come create community on second Sundays of every month 6-8pm EST with a virtual open mic on zoom.\nPlease contact Lindsay Rockwell for zoom link if interested: emonrock@mac.com \nFormat Focus: EVERYONE READS! \n\nCo-create and reading and listening experience that is generous\, dynamic\, and heart-felt.\nRead a 3-minute piece\nBrief positive responses after readers share\nListeners welcome
URL:https://strawdogwriters.org/event/15452/2030-04-14
CATEGORIES:Events for Members,Open Mic,Straw Dog Event
ATTACH;FMTTYPE=image/png:https://strawdogwriters.org/wp-content/uploads/2025/12/Everyone-Reads-2nd-Sundays-updated.png
END:VEVENT
BEGIN:VEVENT
DTSTART;TZID=America/New_York:20300512T180000
DTEND;TZID=America/New_York:20300512T200000
DTSTAMP:20260421T134545
CREATED:20251206T133213Z
LAST-MODIFIED:20260216T233509Z
UID:10001858-1904839200-1904846400@strawdogwriters.org
SUMMARY:Second Sundays Virtual Open Mic
DESCRIPTION:Come create community on second Sundays of every month 6-8pm EST with a virtual open mic on zoom.\nPlease contact Lindsay Rockwell for zoom link if interested: emonrock@mac.com \nFormat Focus: EVERYONE READS! \n\nCo-create and reading and listening experience that is generous\, dynamic\, and heart-felt.\nRead a 3-minute piece\nBrief positive responses after readers share\nListeners welcome
URL:https://strawdogwriters.org/event/15452/2030-05-12
CATEGORIES:Events for Members,Open Mic,Straw Dog Event
ATTACH;FMTTYPE=image/png:https://strawdogwriters.org/wp-content/uploads/2025/12/Everyone-Reads-2nd-Sundays-updated.png
END:VEVENT
BEGIN:VEVENT
DTSTART;TZID=America/New_York:20300609T180000
DTEND;TZID=America/New_York:20300609T200000
DTSTAMP:20260421T134545
CREATED:20251206T133213Z
LAST-MODIFIED:20260216T233509Z
UID:10001859-1907258400-1907265600@strawdogwriters.org
SUMMARY:Second Sundays Virtual Open Mic
DESCRIPTION:Come create community on second Sundays of every month 6-8pm EST with a virtual open mic on zoom.\nPlease contact Lindsay Rockwell for zoom link if interested: emonrock@mac.com \nFormat Focus: EVERYONE READS! \n\nCo-create and reading and listening experience that is generous\, dynamic\, and heart-felt.\nRead a 3-minute piece\nBrief positive responses after readers share\nListeners welcome
URL:https://strawdogwriters.org/event/15452/2030-06-09
CATEGORIES:Events for Members,Open Mic,Straw Dog Event
ATTACH;FMTTYPE=image/png:https://strawdogwriters.org/wp-content/uploads/2025/12/Everyone-Reads-2nd-Sundays-updated.png
END:VEVENT
BEGIN:VEVENT
DTSTART;TZID=America/New_York:20300714T180000
DTEND;TZID=America/New_York:20300714T200000
DTSTAMP:20260421T134545
CREATED:20251206T133213Z
LAST-MODIFIED:20260216T233509Z
UID:10001860-1910282400-1910289600@strawdogwriters.org
SUMMARY:Second Sundays Virtual Open Mic
DESCRIPTION:Come create community on second Sundays of every month 6-8pm EST with a virtual open mic on zoom.\nPlease contact Lindsay Rockwell for zoom link if interested: emonrock@mac.com \nFormat Focus: EVERYONE READS! \n\nCo-create and reading and listening experience that is generous\, dynamic\, and heart-felt.\nRead a 3-minute piece\nBrief positive responses after readers share\nListeners welcome
URL:https://strawdogwriters.org/event/15452/2030-07-14
CATEGORIES:Events for Members,Open Mic,Straw Dog Event
ATTACH;FMTTYPE=image/png:https://strawdogwriters.org/wp-content/uploads/2025/12/Everyone-Reads-2nd-Sundays-updated.png
END:VEVENT
BEGIN:VEVENT
DTSTART;TZID=America/New_York:20300811T180000
DTEND;TZID=America/New_York:20300811T200000
DTSTAMP:20260421T134545
CREATED:20251206T133213Z
LAST-MODIFIED:20260216T233509Z
UID:10001861-1912701600-1912708800@strawdogwriters.org
SUMMARY:Second Sundays Virtual Open Mic
DESCRIPTION:Come create community on second Sundays of every month 6-8pm EST with a virtual open mic on zoom.\nPlease contact Lindsay Rockwell for zoom link if interested: emonrock@mac.com \nFormat Focus: EVERYONE READS! \n\nCo-create and reading and listening experience that is generous\, dynamic\, and heart-felt.\nRead a 3-minute piece\nBrief positive responses after readers share\nListeners welcome
URL:https://strawdogwriters.org/event/15452/2030-08-11
CATEGORIES:Events for Members,Open Mic,Straw Dog Event
ATTACH;FMTTYPE=image/png:https://strawdogwriters.org/wp-content/uploads/2025/12/Everyone-Reads-2nd-Sundays-updated.png
END:VEVENT
BEGIN:VEVENT
DTSTART;TZID=America/New_York:20300908T180000
DTEND;TZID=America/New_York:20300908T200000
DTSTAMP:20260421T134545
CREATED:20251206T133213Z
LAST-MODIFIED:20260216T233509Z
UID:10001862-1915120800-1915128000@strawdogwriters.org
SUMMARY:Second Sundays Virtual Open Mic
DESCRIPTION:Come create community on second Sundays of every month 6-8pm EST with a virtual open mic on zoom.\nPlease contact Lindsay Rockwell for zoom link if interested: emonrock@mac.com \nFormat Focus: EVERYONE READS! \n\nCo-create and reading and listening experience that is generous\, dynamic\, and heart-felt.\nRead a 3-minute piece\nBrief positive responses after readers share\nListeners welcome
URL:https://strawdogwriters.org/event/15452/2030-09-08
CATEGORIES:Events for Members,Open Mic,Straw Dog Event
ATTACH;FMTTYPE=image/png:https://strawdogwriters.org/wp-content/uploads/2025/12/Everyone-Reads-2nd-Sundays-updated.png
END:VEVENT
BEGIN:VEVENT
DTSTART;TZID=America/New_York:20301013T180000
DTEND;TZID=America/New_York:20301013T200000
DTSTAMP:20260421T134545
CREATED:20251206T133213Z
LAST-MODIFIED:20260216T233509Z
UID:10001863-1918144800-1918152000@strawdogwriters.org
SUMMARY:Second Sundays Virtual Open Mic
DESCRIPTION:Come create community on second Sundays of every month 6-8pm EST with a virtual open mic on zoom.\nPlease contact Lindsay Rockwell for zoom link if interested: emonrock@mac.com \nFormat Focus: EVERYONE READS! \n\nCo-create and reading and listening experience that is generous\, dynamic\, and heart-felt.\nRead a 3-minute piece\nBrief positive responses after readers share\nListeners welcome
URL:https://strawdogwriters.org/event/15452/2030-10-13
CATEGORIES:Events for Members,Open Mic,Straw Dog Event
ATTACH;FMTTYPE=image/png:https://strawdogwriters.org/wp-content/uploads/2025/12/Everyone-Reads-2nd-Sundays-updated.png
END:VEVENT
BEGIN:VEVENT
DTSTART;TZID=America/New_York:20301110T180000
DTEND;TZID=America/New_York:20301110T200000
DTSTAMP:20260421T134545
CREATED:20251206T133213Z
LAST-MODIFIED:20260216T233509Z
UID:10001864-1920564000-1920571200@strawdogwriters.org
SUMMARY:Second Sundays Virtual Open Mic
DESCRIPTION:Come create community on second Sundays of every month 6-8pm EST with a virtual open mic on zoom.\nPlease contact Lindsay Rockwell for zoom link if interested: emonrock@mac.com \nFormat Focus: EVERYONE READS! \n\nCo-create and reading and listening experience that is generous\, dynamic\, and heart-felt.\nRead a 3-minute piece\nBrief positive responses after readers share\nListeners welcome
URL:https://strawdogwriters.org/event/15452/2030-11-10
CATEGORIES:Events for Members,Open Mic,Straw Dog Event
ATTACH;FMTTYPE=image/png:https://strawdogwriters.org/wp-content/uploads/2025/12/Everyone-Reads-2nd-Sundays-updated.png
END:VEVENT
BEGIN:VEVENT
DTSTART;TZID=America/New_York:20301208T180000
DTEND;TZID=America/New_York:20301208T200000
DTSTAMP:20260421T134545
CREATED:20251206T133213Z
LAST-MODIFIED:20260216T233509Z
UID:10001865-1922983200-1922990400@strawdogwriters.org
SUMMARY:Second Sundays Virtual Open Mic
DESCRIPTION:Come create community on second Sundays of every month 6-8pm EST with a virtual open mic on zoom.\nPlease contact Lindsay Rockwell for zoom link if interested: emonrock@mac.com \nFormat Focus: EVERYONE READS! \n\nCo-create and reading and listening experience that is generous\, dynamic\, and heart-felt.\nRead a 3-minute piece\nBrief positive responses after readers share\nListeners welcome
URL:https://strawdogwriters.org/event/15452/2030-12-08
CATEGORIES:Events for Members,Open Mic,Straw Dog Event
ATTACH;FMTTYPE=image/png:https://strawdogwriters.org/wp-content/uploads/2025/12/Everyone-Reads-2nd-Sundays-updated.png
END:VEVENT
BEGIN:VEVENT
DTSTART;TZID=America/New_York:20310112T180000
DTEND;TZID=America/New_York:20310112T200000
DTSTAMP:20260421T134545
CREATED:20251206T133213Z
LAST-MODIFIED:20260216T233509Z
UID:10001866-1926007200-1926014400@strawdogwriters.org
SUMMARY:Second Sundays Virtual Open Mic
DESCRIPTION:Come create community on second Sundays of every month 6-8pm EST with a virtual open mic on zoom.\nPlease contact Lindsay Rockwell for zoom link if interested: emonrock@mac.com \nFormat Focus: EVERYONE READS! \n\nCo-create and reading and listening experience that is generous\, dynamic\, and heart-felt.\nRead a 3-minute piece\nBrief positive responses after readers share\nListeners welcome
URL:https://strawdogwriters.org/event/15452/2031-01-12
CATEGORIES:Events for Members,Open Mic,Straw Dog Event
ATTACH;FMTTYPE=image/png:https://strawdogwriters.org/wp-content/uploads/2025/12/Everyone-Reads-2nd-Sundays-updated.png
END:VEVENT
BEGIN:VEVENT
DTSTART;TZID=America/New_York:20310209T180000
DTEND;TZID=America/New_York:20310209T200000
DTSTAMP:20260421T134545
CREATED:20251206T133213Z
LAST-MODIFIED:20260216T233509Z
UID:10001867-1928426400-1928433600@strawdogwriters.org
SUMMARY:Second Sundays Virtual Open Mic
DESCRIPTION:Come create community on second Sundays of every month 6-8pm EST with a virtual open mic on zoom.\nPlease contact Lindsay Rockwell for zoom link if interested: emonrock@mac.com \nFormat Focus: EVERYONE READS! \n\nCo-create and reading and listening experience that is generous\, dynamic\, and heart-felt.\nRead a 3-minute piece\nBrief positive responses after readers share\nListeners welcome
URL:https://strawdogwriters.org/event/15452/2031-02-09
CATEGORIES:Events for Members,Open Mic,Straw Dog Event
ATTACH;FMTTYPE=image/png:https://strawdogwriters.org/wp-content/uploads/2025/12/Everyone-Reads-2nd-Sundays-updated.png
END:VEVENT
END:VCALENDAR