BEGIN:VCALENDAR
VERSION:2.0
PRODID:-//Straw Dog Writers Guild - ECPv6.15.12.2//NONSGML v1.0//EN
CALSCALE:GREGORIAN
METHOD:PUBLISH
X-WR-CALNAME:Straw Dog Writers Guild
X-ORIGINAL-URL:https://strawdogwriters.org
X-WR-CALDESC:Events for Straw Dog Writers Guild
REFRESH-INTERVAL;VALUE=DURATION:PT1H
X-Robots-Tag:noindex
X-PUBLISHED-TTL:PT1H
BEGIN:VTIMEZONE
TZID:America/New_York
BEGIN:DAYLIGHT
TZOFFSETFROM:-0500
TZOFFSETTO:-0400
TZNAME:EDT
DTSTART:20260308T070000
END:DAYLIGHT
BEGIN:STANDARD
TZOFFSETFROM:-0400
TZOFFSETTO:-0500
TZNAME:EST
DTSTART:20261101T060000
END:STANDARD
BEGIN:DAYLIGHT
TZOFFSETFROM:-0500
TZOFFSETTO:-0400
TZNAME:EDT
DTSTART:20270314T070000
END:DAYLIGHT
BEGIN:STANDARD
TZOFFSETFROM:-0400
TZOFFSETTO:-0500
TZNAME:EST
DTSTART:20271107T060000
END:STANDARD
BEGIN:DAYLIGHT
TZOFFSETFROM:-0500
TZOFFSETTO:-0400
TZNAME:EDT
DTSTART:20280312T070000
END:DAYLIGHT
BEGIN:STANDARD
TZOFFSETFROM:-0400
TZOFFSETTO:-0500
TZNAME:EST
DTSTART:20281105T060000
END:STANDARD
BEGIN:DAYLIGHT
TZOFFSETFROM:-0500
TZOFFSETTO:-0400
TZNAME:EDT
DTSTART:20290311T070000
END:DAYLIGHT
BEGIN:STANDARD
TZOFFSETFROM:-0400
TZOFFSETTO:-0500
TZNAME:EST
DTSTART:20291104T060000
END:STANDARD
BEGIN:DAYLIGHT
TZOFFSETFROM:-0500
TZOFFSETTO:-0400
TZNAME:EDT
DTSTART:20300310T070000
END:DAYLIGHT
BEGIN:STANDARD
TZOFFSETFROM:-0400
TZOFFSETTO:-0500
TZNAME:EST
DTSTART:20301103T060000
END:STANDARD
END:VTIMEZONE
BEGIN:VEVENT
DTSTART;TZID=America/New_York:20270314T180000
DTEND;TZID=America/New_York:20270314T200000
DTSTAMP:20260421T102013
CREATED:20251206T133213Z
LAST-MODIFIED:20260216T233509Z
UID:10001820-1805047200-1805054400@strawdogwriters.org
SUMMARY:Second Sundays Virtual Open Mic
DESCRIPTION:Come create community on second Sundays of every month 6-8pm EST with a virtual open mic on zoom.\nPlease contact Lindsay Rockwell for zoom link if interested: emonrock@mac.com \nFormat Focus: EVERYONE READS! \n\nCo-create and reading and listening experience that is generous\, dynamic\, and heart-felt.\nRead a 3-minute piece\nBrief positive responses after readers share\nListeners welcome
URL:https://strawdogwriters.org/event/15452/2027-03-14
CATEGORIES:Events for Members,Open Mic,Straw Dog Event
ATTACH;FMTTYPE=image/png:https://strawdogwriters.org/wp-content/uploads/2025/12/Everyone-Reads-2nd-Sundays-updated.png
END:VEVENT
BEGIN:VEVENT
DTSTART;TZID=America/New_York:20270411T180000
DTEND;TZID=America/New_York:20270411T200000
DTSTAMP:20260421T102013
CREATED:20251206T133213Z
LAST-MODIFIED:20260216T233509Z
UID:10001821-1807466400-1807473600@strawdogwriters.org
SUMMARY:Second Sundays Virtual Open Mic
DESCRIPTION:Come create community on second Sundays of every month 6-8pm EST with a virtual open mic on zoom.\nPlease contact Lindsay Rockwell for zoom link if interested: emonrock@mac.com \nFormat Focus: EVERYONE READS! \n\nCo-create and reading and listening experience that is generous\, dynamic\, and heart-felt.\nRead a 3-minute piece\nBrief positive responses after readers share\nListeners welcome
URL:https://strawdogwriters.org/event/15452/2027-04-11
CATEGORIES:Events for Members,Open Mic,Straw Dog Event
ATTACH;FMTTYPE=image/png:https://strawdogwriters.org/wp-content/uploads/2025/12/Everyone-Reads-2nd-Sundays-updated.png
END:VEVENT
BEGIN:VEVENT
DTSTART;TZID=America/New_York:20270509T180000
DTEND;TZID=America/New_York:20270509T200000
DTSTAMP:20260421T102013
CREATED:20251206T133213Z
LAST-MODIFIED:20260216T233509Z
UID:10001822-1809885600-1809892800@strawdogwriters.org
SUMMARY:Second Sundays Virtual Open Mic
DESCRIPTION:Come create community on second Sundays of every month 6-8pm EST with a virtual open mic on zoom.\nPlease contact Lindsay Rockwell for zoom link if interested: emonrock@mac.com \nFormat Focus: EVERYONE READS! \n\nCo-create and reading and listening experience that is generous\, dynamic\, and heart-felt.\nRead a 3-minute piece\nBrief positive responses after readers share\nListeners welcome
URL:https://strawdogwriters.org/event/15452/2027-05-09
CATEGORIES:Events for Members,Open Mic,Straw Dog Event
ATTACH;FMTTYPE=image/png:https://strawdogwriters.org/wp-content/uploads/2025/12/Everyone-Reads-2nd-Sundays-updated.png
END:VEVENT
BEGIN:VEVENT
DTSTART;TZID=America/New_York:20270613T180000
DTEND;TZID=America/New_York:20270613T200000
DTSTAMP:20260421T102013
CREATED:20251206T133213Z
LAST-MODIFIED:20260216T233509Z
UID:10001823-1812909600-1812916800@strawdogwriters.org
SUMMARY:Second Sundays Virtual Open Mic
DESCRIPTION:Come create community on second Sundays of every month 6-8pm EST with a virtual open mic on zoom.\nPlease contact Lindsay Rockwell for zoom link if interested: emonrock@mac.com \nFormat Focus: EVERYONE READS! \n\nCo-create and reading and listening experience that is generous\, dynamic\, and heart-felt.\nRead a 3-minute piece\nBrief positive responses after readers share\nListeners welcome
URL:https://strawdogwriters.org/event/15452/2027-06-13
CATEGORIES:Events for Members,Open Mic,Straw Dog Event
ATTACH;FMTTYPE=image/png:https://strawdogwriters.org/wp-content/uploads/2025/12/Everyone-Reads-2nd-Sundays-updated.png
END:VEVENT
BEGIN:VEVENT
DTSTART;TZID=America/New_York:20270711T180000
DTEND;TZID=America/New_York:20270711T200000
DTSTAMP:20260421T102013
CREATED:20251206T133213Z
LAST-MODIFIED:20260216T233509Z
UID:10001824-1815328800-1815336000@strawdogwriters.org
SUMMARY:Second Sundays Virtual Open Mic
DESCRIPTION:Come create community on second Sundays of every month 6-8pm EST with a virtual open mic on zoom.\nPlease contact Lindsay Rockwell for zoom link if interested: emonrock@mac.com \nFormat Focus: EVERYONE READS! \n\nCo-create and reading and listening experience that is generous\, dynamic\, and heart-felt.\nRead a 3-minute piece\nBrief positive responses after readers share\nListeners welcome
URL:https://strawdogwriters.org/event/15452/2027-07-11
CATEGORIES:Events for Members,Open Mic,Straw Dog Event
ATTACH;FMTTYPE=image/png:https://strawdogwriters.org/wp-content/uploads/2025/12/Everyone-Reads-2nd-Sundays-updated.png
END:VEVENT
BEGIN:VEVENT
DTSTART;TZID=America/New_York:20270808T180000
DTEND;TZID=America/New_York:20270808T200000
DTSTAMP:20260421T102013
CREATED:20251206T133213Z
LAST-MODIFIED:20260216T233509Z
UID:10001825-1817748000-1817755200@strawdogwriters.org
SUMMARY:Second Sundays Virtual Open Mic
DESCRIPTION:Come create community on second Sundays of every month 6-8pm EST with a virtual open mic on zoom.\nPlease contact Lindsay Rockwell for zoom link if interested: emonrock@mac.com \nFormat Focus: EVERYONE READS! \n\nCo-create and reading and listening experience that is generous\, dynamic\, and heart-felt.\nRead a 3-minute piece\nBrief positive responses after readers share\nListeners welcome
URL:https://strawdogwriters.org/event/15452/2027-08-08
CATEGORIES:Events for Members,Open Mic,Straw Dog Event
ATTACH;FMTTYPE=image/png:https://strawdogwriters.org/wp-content/uploads/2025/12/Everyone-Reads-2nd-Sundays-updated.png
END:VEVENT
BEGIN:VEVENT
DTSTART;TZID=America/New_York:20270912T180000
DTEND;TZID=America/New_York:20270912T200000
DTSTAMP:20260421T102013
CREATED:20251206T133213Z
LAST-MODIFIED:20260216T233509Z
UID:10001826-1820772000-1820779200@strawdogwriters.org
SUMMARY:Second Sundays Virtual Open Mic
DESCRIPTION:Come create community on second Sundays of every month 6-8pm EST with a virtual open mic on zoom.\nPlease contact Lindsay Rockwell for zoom link if interested: emonrock@mac.com \nFormat Focus: EVERYONE READS! \n\nCo-create and reading and listening experience that is generous\, dynamic\, and heart-felt.\nRead a 3-minute piece\nBrief positive responses after readers share\nListeners welcome
URL:https://strawdogwriters.org/event/15452/2027-09-12
CATEGORIES:Events for Members,Open Mic,Straw Dog Event
ATTACH;FMTTYPE=image/png:https://strawdogwriters.org/wp-content/uploads/2025/12/Everyone-Reads-2nd-Sundays-updated.png
END:VEVENT
BEGIN:VEVENT
DTSTART;TZID=America/New_York:20271010T180000
DTEND;TZID=America/New_York:20271010T200000
DTSTAMP:20260421T102013
CREATED:20251206T133213Z
LAST-MODIFIED:20260216T233509Z
UID:10001827-1823191200-1823198400@strawdogwriters.org
SUMMARY:Second Sundays Virtual Open Mic
DESCRIPTION:Come create community on second Sundays of every month 6-8pm EST with a virtual open mic on zoom.\nPlease contact Lindsay Rockwell for zoom link if interested: emonrock@mac.com \nFormat Focus: EVERYONE READS! \n\nCo-create and reading and listening experience that is generous\, dynamic\, and heart-felt.\nRead a 3-minute piece\nBrief positive responses after readers share\nListeners welcome
URL:https://strawdogwriters.org/event/15452/2027-10-10
CATEGORIES:Events for Members,Open Mic,Straw Dog Event
ATTACH;FMTTYPE=image/png:https://strawdogwriters.org/wp-content/uploads/2025/12/Everyone-Reads-2nd-Sundays-updated.png
END:VEVENT
BEGIN:VEVENT
DTSTART;TZID=America/New_York:20271114T180000
DTEND;TZID=America/New_York:20271114T200000
DTSTAMP:20260421T102013
CREATED:20251206T133213Z
LAST-MODIFIED:20260216T233509Z
UID:10001828-1826215200-1826222400@strawdogwriters.org
SUMMARY:Second Sundays Virtual Open Mic
DESCRIPTION:Come create community on second Sundays of every month 6-8pm EST with a virtual open mic on zoom.\nPlease contact Lindsay Rockwell for zoom link if interested: emonrock@mac.com \nFormat Focus: EVERYONE READS! \n\nCo-create and reading and listening experience that is generous\, dynamic\, and heart-felt.\nRead a 3-minute piece\nBrief positive responses after readers share\nListeners welcome
URL:https://strawdogwriters.org/event/15452/2027-11-14
CATEGORIES:Events for Members,Open Mic,Straw Dog Event
ATTACH;FMTTYPE=image/png:https://strawdogwriters.org/wp-content/uploads/2025/12/Everyone-Reads-2nd-Sundays-updated.png
END:VEVENT
BEGIN:VEVENT
DTSTART;TZID=America/New_York:20271212T180000
DTEND;TZID=America/New_York:20271212T200000
DTSTAMP:20260421T102013
CREATED:20251206T133213Z
LAST-MODIFIED:20260216T233509Z
UID:10001829-1828634400-1828641600@strawdogwriters.org
SUMMARY:Second Sundays Virtual Open Mic
DESCRIPTION:Come create community on second Sundays of every month 6-8pm EST with a virtual open mic on zoom.\nPlease contact Lindsay Rockwell for zoom link if interested: emonrock@mac.com \nFormat Focus: EVERYONE READS! \n\nCo-create and reading and listening experience that is generous\, dynamic\, and heart-felt.\nRead a 3-minute piece\nBrief positive responses after readers share\nListeners welcome
URL:https://strawdogwriters.org/event/15452/2027-12-12
CATEGORIES:Events for Members,Open Mic,Straw Dog Event
ATTACH;FMTTYPE=image/png:https://strawdogwriters.org/wp-content/uploads/2025/12/Everyone-Reads-2nd-Sundays-updated.png
END:VEVENT
BEGIN:VEVENT
DTSTART;TZID=America/New_York:20280109T180000
DTEND;TZID=America/New_York:20280109T200000
DTSTAMP:20260421T102013
CREATED:20251206T133213Z
LAST-MODIFIED:20260216T233509Z
UID:10001830-1831053600-1831060800@strawdogwriters.org
SUMMARY:Second Sundays Virtual Open Mic
DESCRIPTION:Come create community on second Sundays of every month 6-8pm EST with a virtual open mic on zoom.\nPlease contact Lindsay Rockwell for zoom link if interested: emonrock@mac.com \nFormat Focus: EVERYONE READS! \n\nCo-create and reading and listening experience that is generous\, dynamic\, and heart-felt.\nRead a 3-minute piece\nBrief positive responses after readers share\nListeners welcome
URL:https://strawdogwriters.org/event/15452/2028-01-09
CATEGORIES:Events for Members,Open Mic,Straw Dog Event
ATTACH;FMTTYPE=image/png:https://strawdogwriters.org/wp-content/uploads/2025/12/Everyone-Reads-2nd-Sundays-updated.png
END:VEVENT
BEGIN:VEVENT
DTSTART;TZID=America/New_York:20280213T180000
DTEND;TZID=America/New_York:20280213T200000
DTSTAMP:20260421T102013
CREATED:20251206T133213Z
LAST-MODIFIED:20260216T233509Z
UID:10001831-1834077600-1834084800@strawdogwriters.org
SUMMARY:Second Sundays Virtual Open Mic
DESCRIPTION:Come create community on second Sundays of every month 6-8pm EST with a virtual open mic on zoom.\nPlease contact Lindsay Rockwell for zoom link if interested: emonrock@mac.com \nFormat Focus: EVERYONE READS! \n\nCo-create and reading and listening experience that is generous\, dynamic\, and heart-felt.\nRead a 3-minute piece\nBrief positive responses after readers share\nListeners welcome
URL:https://strawdogwriters.org/event/15452/2028-02-13
CATEGORIES:Events for Members,Open Mic,Straw Dog Event
ATTACH;FMTTYPE=image/png:https://strawdogwriters.org/wp-content/uploads/2025/12/Everyone-Reads-2nd-Sundays-updated.png
END:VEVENT
BEGIN:VEVENT
DTSTART;TZID=America/New_York:20280312T180000
DTEND;TZID=America/New_York:20280312T200000
DTSTAMP:20260421T102013
CREATED:20251206T133213Z
LAST-MODIFIED:20260216T233509Z
UID:10001832-1836496800-1836504000@strawdogwriters.org
SUMMARY:Second Sundays Virtual Open Mic
DESCRIPTION:Come create community on second Sundays of every month 6-8pm EST with a virtual open mic on zoom.\nPlease contact Lindsay Rockwell for zoom link if interested: emonrock@mac.com \nFormat Focus: EVERYONE READS! \n\nCo-create and reading and listening experience that is generous\, dynamic\, and heart-felt.\nRead a 3-minute piece\nBrief positive responses after readers share\nListeners welcome
URL:https://strawdogwriters.org/event/15452/2028-03-12
CATEGORIES:Events for Members,Open Mic,Straw Dog Event
ATTACH;FMTTYPE=image/png:https://strawdogwriters.org/wp-content/uploads/2025/12/Everyone-Reads-2nd-Sundays-updated.png
END:VEVENT
BEGIN:VEVENT
DTSTART;TZID=America/New_York:20280409T180000
DTEND;TZID=America/New_York:20280409T200000
DTSTAMP:20260421T102013
CREATED:20251206T133213Z
LAST-MODIFIED:20260216T233509Z
UID:10001833-1838916000-1838923200@strawdogwriters.org
SUMMARY:Second Sundays Virtual Open Mic
DESCRIPTION:Come create community on second Sundays of every month 6-8pm EST with a virtual open mic on zoom.\nPlease contact Lindsay Rockwell for zoom link if interested: emonrock@mac.com \nFormat Focus: EVERYONE READS! \n\nCo-create and reading and listening experience that is generous\, dynamic\, and heart-felt.\nRead a 3-minute piece\nBrief positive responses after readers share\nListeners welcome
URL:https://strawdogwriters.org/event/15452/2028-04-09
CATEGORIES:Events for Members,Open Mic,Straw Dog Event
ATTACH;FMTTYPE=image/png:https://strawdogwriters.org/wp-content/uploads/2025/12/Everyone-Reads-2nd-Sundays-updated.png
END:VEVENT
BEGIN:VEVENT
DTSTART;TZID=America/New_York:20280514T180000
DTEND;TZID=America/New_York:20280514T200000
DTSTAMP:20260421T102013
CREATED:20251206T133213Z
LAST-MODIFIED:20260216T233509Z
UID:10001834-1841940000-1841947200@strawdogwriters.org
SUMMARY:Second Sundays Virtual Open Mic
DESCRIPTION:Come create community on second Sundays of every month 6-8pm EST with a virtual open mic on zoom.\nPlease contact Lindsay Rockwell for zoom link if interested: emonrock@mac.com \nFormat Focus: EVERYONE READS! \n\nCo-create and reading and listening experience that is generous\, dynamic\, and heart-felt.\nRead a 3-minute piece\nBrief positive responses after readers share\nListeners welcome
URL:https://strawdogwriters.org/event/15452/2028-05-14
CATEGORIES:Events for Members,Open Mic,Straw Dog Event
ATTACH;FMTTYPE=image/png:https://strawdogwriters.org/wp-content/uploads/2025/12/Everyone-Reads-2nd-Sundays-updated.png
END:VEVENT
BEGIN:VEVENT
DTSTART;TZID=America/New_York:20280611T180000
DTEND;TZID=America/New_York:20280611T200000
DTSTAMP:20260421T102013
CREATED:20251206T133213Z
LAST-MODIFIED:20260216T233509Z
UID:10001835-1844359200-1844366400@strawdogwriters.org
SUMMARY:Second Sundays Virtual Open Mic
DESCRIPTION:Come create community on second Sundays of every month 6-8pm EST with a virtual open mic on zoom.\nPlease contact Lindsay Rockwell for zoom link if interested: emonrock@mac.com \nFormat Focus: EVERYONE READS! \n\nCo-create and reading and listening experience that is generous\, dynamic\, and heart-felt.\nRead a 3-minute piece\nBrief positive responses after readers share\nListeners welcome
URL:https://strawdogwriters.org/event/15452/2028-06-11
CATEGORIES:Events for Members,Open Mic,Straw Dog Event
ATTACH;FMTTYPE=image/png:https://strawdogwriters.org/wp-content/uploads/2025/12/Everyone-Reads-2nd-Sundays-updated.png
END:VEVENT
BEGIN:VEVENT
DTSTART;TZID=America/New_York:20280709T180000
DTEND;TZID=America/New_York:20280709T200000
DTSTAMP:20260421T102013
CREATED:20251206T133213Z
LAST-MODIFIED:20260216T233509Z
UID:10001836-1846778400-1846785600@strawdogwriters.org
SUMMARY:Second Sundays Virtual Open Mic
DESCRIPTION:Come create community on second Sundays of every month 6-8pm EST with a virtual open mic on zoom.\nPlease contact Lindsay Rockwell for zoom link if interested: emonrock@mac.com \nFormat Focus: EVERYONE READS! \n\nCo-create and reading and listening experience that is generous\, dynamic\, and heart-felt.\nRead a 3-minute piece\nBrief positive responses after readers share\nListeners welcome
URL:https://strawdogwriters.org/event/15452/2028-07-09
CATEGORIES:Events for Members,Open Mic,Straw Dog Event
ATTACH;FMTTYPE=image/png:https://strawdogwriters.org/wp-content/uploads/2025/12/Everyone-Reads-2nd-Sundays-updated.png
END:VEVENT
BEGIN:VEVENT
DTSTART;TZID=America/New_York:20280813T180000
DTEND;TZID=America/New_York:20280813T200000
DTSTAMP:20260421T102013
CREATED:20251206T133213Z
LAST-MODIFIED:20260216T233509Z
UID:10001837-1849802400-1849809600@strawdogwriters.org
SUMMARY:Second Sundays Virtual Open Mic
DESCRIPTION:Come create community on second Sundays of every month 6-8pm EST with a virtual open mic on zoom.\nPlease contact Lindsay Rockwell for zoom link if interested: emonrock@mac.com \nFormat Focus: EVERYONE READS! \n\nCo-create and reading and listening experience that is generous\, dynamic\, and heart-felt.\nRead a 3-minute piece\nBrief positive responses after readers share\nListeners welcome
URL:https://strawdogwriters.org/event/15452/2028-08-13
CATEGORIES:Events for Members,Open Mic,Straw Dog Event
ATTACH;FMTTYPE=image/png:https://strawdogwriters.org/wp-content/uploads/2025/12/Everyone-Reads-2nd-Sundays-updated.png
END:VEVENT
BEGIN:VEVENT
DTSTART;TZID=America/New_York:20280910T180000
DTEND;TZID=America/New_York:20280910T200000
DTSTAMP:20260421T102013
CREATED:20251206T133213Z
LAST-MODIFIED:20260216T233509Z
UID:10001838-1852221600-1852228800@strawdogwriters.org
SUMMARY:Second Sundays Virtual Open Mic
DESCRIPTION:Come create community on second Sundays of every month 6-8pm EST with a virtual open mic on zoom.\nPlease contact Lindsay Rockwell for zoom link if interested: emonrock@mac.com \nFormat Focus: EVERYONE READS! \n\nCo-create and reading and listening experience that is generous\, dynamic\, and heart-felt.\nRead a 3-minute piece\nBrief positive responses after readers share\nListeners welcome
URL:https://strawdogwriters.org/event/15452/2028-09-10
CATEGORIES:Events for Members,Open Mic,Straw Dog Event
ATTACH;FMTTYPE=image/png:https://strawdogwriters.org/wp-content/uploads/2025/12/Everyone-Reads-2nd-Sundays-updated.png
END:VEVENT
BEGIN:VEVENT
DTSTART;TZID=America/New_York:20281008T180000
DTEND;TZID=America/New_York:20281008T200000
DTSTAMP:20260421T102013
CREATED:20251206T133213Z
LAST-MODIFIED:20260216T233509Z
UID:10001839-1854640800-1854648000@strawdogwriters.org
SUMMARY:Second Sundays Virtual Open Mic
DESCRIPTION:Come create community on second Sundays of every month 6-8pm EST with a virtual open mic on zoom.\nPlease contact Lindsay Rockwell for zoom link if interested: emonrock@mac.com \nFormat Focus: EVERYONE READS! \n\nCo-create and reading and listening experience that is generous\, dynamic\, and heart-felt.\nRead a 3-minute piece\nBrief positive responses after readers share\nListeners welcome
URL:https://strawdogwriters.org/event/15452/2028-10-08
CATEGORIES:Events for Members,Open Mic,Straw Dog Event
ATTACH;FMTTYPE=image/png:https://strawdogwriters.org/wp-content/uploads/2025/12/Everyone-Reads-2nd-Sundays-updated.png
END:VEVENT
BEGIN:VEVENT
DTSTART;TZID=America/New_York:20281112T180000
DTEND;TZID=America/New_York:20281112T200000
DTSTAMP:20260421T102013
CREATED:20251206T133213Z
LAST-MODIFIED:20260216T233509Z
UID:10001840-1857664800-1857672000@strawdogwriters.org
SUMMARY:Second Sundays Virtual Open Mic
DESCRIPTION:Come create community on second Sundays of every month 6-8pm EST with a virtual open mic on zoom.\nPlease contact Lindsay Rockwell for zoom link if interested: emonrock@mac.com \nFormat Focus: EVERYONE READS! \n\nCo-create and reading and listening experience that is generous\, dynamic\, and heart-felt.\nRead a 3-minute piece\nBrief positive responses after readers share\nListeners welcome
URL:https://strawdogwriters.org/event/15452/2028-11-12
CATEGORIES:Events for Members,Open Mic,Straw Dog Event
ATTACH;FMTTYPE=image/png:https://strawdogwriters.org/wp-content/uploads/2025/12/Everyone-Reads-2nd-Sundays-updated.png
END:VEVENT
BEGIN:VEVENT
DTSTART;TZID=America/New_York:20281210T180000
DTEND;TZID=America/New_York:20281210T200000
DTSTAMP:20260421T102013
CREATED:20251206T133213Z
LAST-MODIFIED:20260216T233509Z
UID:10001841-1860084000-1860091200@strawdogwriters.org
SUMMARY:Second Sundays Virtual Open Mic
DESCRIPTION:Come create community on second Sundays of every month 6-8pm EST with a virtual open mic on zoom.\nPlease contact Lindsay Rockwell for zoom link if interested: emonrock@mac.com \nFormat Focus: EVERYONE READS! \n\nCo-create and reading and listening experience that is generous\, dynamic\, and heart-felt.\nRead a 3-minute piece\nBrief positive responses after readers share\nListeners welcome
URL:https://strawdogwriters.org/event/15452/2028-12-10
CATEGORIES:Events for Members,Open Mic,Straw Dog Event
ATTACH;FMTTYPE=image/png:https://strawdogwriters.org/wp-content/uploads/2025/12/Everyone-Reads-2nd-Sundays-updated.png
END:VEVENT
BEGIN:VEVENT
DTSTART;TZID=America/New_York:20290114T180000
DTEND;TZID=America/New_York:20290114T200000
DTSTAMP:20260421T102013
CREATED:20251206T133213Z
LAST-MODIFIED:20260216T233509Z
UID:10001842-1863108000-1863115200@strawdogwriters.org
SUMMARY:Second Sundays Virtual Open Mic
DESCRIPTION:Come create community on second Sundays of every month 6-8pm EST with a virtual open mic on zoom.\nPlease contact Lindsay Rockwell for zoom link if interested: emonrock@mac.com \nFormat Focus: EVERYONE READS! \n\nCo-create and reading and listening experience that is generous\, dynamic\, and heart-felt.\nRead a 3-minute piece\nBrief positive responses after readers share\nListeners welcome
URL:https://strawdogwriters.org/event/15452/2029-01-14
CATEGORIES:Events for Members,Open Mic,Straw Dog Event
ATTACH;FMTTYPE=image/png:https://strawdogwriters.org/wp-content/uploads/2025/12/Everyone-Reads-2nd-Sundays-updated.png
END:VEVENT
BEGIN:VEVENT
DTSTART;TZID=America/New_York:20290211T180000
DTEND;TZID=America/New_York:20290211T200000
DTSTAMP:20260421T102013
CREATED:20251206T133213Z
LAST-MODIFIED:20260216T233509Z
UID:10001843-1865527200-1865534400@strawdogwriters.org
SUMMARY:Second Sundays Virtual Open Mic
DESCRIPTION:Come create community on second Sundays of every month 6-8pm EST with a virtual open mic on zoom.\nPlease contact Lindsay Rockwell for zoom link if interested: emonrock@mac.com \nFormat Focus: EVERYONE READS! \n\nCo-create and reading and listening experience that is generous\, dynamic\, and heart-felt.\nRead a 3-minute piece\nBrief positive responses after readers share\nListeners welcome
URL:https://strawdogwriters.org/event/15452/2029-02-11
CATEGORIES:Events for Members,Open Mic,Straw Dog Event
ATTACH;FMTTYPE=image/png:https://strawdogwriters.org/wp-content/uploads/2025/12/Everyone-Reads-2nd-Sundays-updated.png
END:VEVENT
BEGIN:VEVENT
DTSTART;TZID=America/New_York:20290311T180000
DTEND;TZID=America/New_York:20290311T200000
DTSTAMP:20260421T102013
CREATED:20251206T133213Z
LAST-MODIFIED:20260216T233509Z
UID:10001844-1867946400-1867953600@strawdogwriters.org
SUMMARY:Second Sundays Virtual Open Mic
DESCRIPTION:Come create community on second Sundays of every month 6-8pm EST with a virtual open mic on zoom.\nPlease contact Lindsay Rockwell for zoom link if interested: emonrock@mac.com \nFormat Focus: EVERYONE READS! \n\nCo-create and reading and listening experience that is generous\, dynamic\, and heart-felt.\nRead a 3-minute piece\nBrief positive responses after readers share\nListeners welcome
URL:https://strawdogwriters.org/event/15452/2029-03-11
CATEGORIES:Events for Members,Open Mic,Straw Dog Event
ATTACH;FMTTYPE=image/png:https://strawdogwriters.org/wp-content/uploads/2025/12/Everyone-Reads-2nd-Sundays-updated.png
END:VEVENT
BEGIN:VEVENT
DTSTART;TZID=America/New_York:20290408T180000
DTEND;TZID=America/New_York:20290408T200000
DTSTAMP:20260421T102013
CREATED:20251206T133213Z
LAST-MODIFIED:20260216T233509Z
UID:10001845-1870365600-1870372800@strawdogwriters.org
SUMMARY:Second Sundays Virtual Open Mic
DESCRIPTION:Come create community on second Sundays of every month 6-8pm EST with a virtual open mic on zoom.\nPlease contact Lindsay Rockwell for zoom link if interested: emonrock@mac.com \nFormat Focus: EVERYONE READS! \n\nCo-create and reading and listening experience that is generous\, dynamic\, and heart-felt.\nRead a 3-minute piece\nBrief positive responses after readers share\nListeners welcome
URL:https://strawdogwriters.org/event/15452/2029-04-08
CATEGORIES:Events for Members,Open Mic,Straw Dog Event
ATTACH;FMTTYPE=image/png:https://strawdogwriters.org/wp-content/uploads/2025/12/Everyone-Reads-2nd-Sundays-updated.png
END:VEVENT
BEGIN:VEVENT
DTSTART;TZID=America/New_York:20290513T180000
DTEND;TZID=America/New_York:20290513T200000
DTSTAMP:20260421T102013
CREATED:20251206T133213Z
LAST-MODIFIED:20260216T233509Z
UID:10001846-1873389600-1873396800@strawdogwriters.org
SUMMARY:Second Sundays Virtual Open Mic
DESCRIPTION:Come create community on second Sundays of every month 6-8pm EST with a virtual open mic on zoom.\nPlease contact Lindsay Rockwell for zoom link if interested: emonrock@mac.com \nFormat Focus: EVERYONE READS! \n\nCo-create and reading and listening experience that is generous\, dynamic\, and heart-felt.\nRead a 3-minute piece\nBrief positive responses after readers share\nListeners welcome
URL:https://strawdogwriters.org/event/15452/2029-05-13
CATEGORIES:Events for Members,Open Mic,Straw Dog Event
ATTACH;FMTTYPE=image/png:https://strawdogwriters.org/wp-content/uploads/2025/12/Everyone-Reads-2nd-Sundays-updated.png
END:VEVENT
BEGIN:VEVENT
DTSTART;TZID=America/New_York:20290610T180000
DTEND;TZID=America/New_York:20290610T200000
DTSTAMP:20260421T102013
CREATED:20251206T133213Z
LAST-MODIFIED:20260216T233509Z
UID:10001847-1875808800-1875816000@strawdogwriters.org
SUMMARY:Second Sundays Virtual Open Mic
DESCRIPTION:Come create community on second Sundays of every month 6-8pm EST with a virtual open mic on zoom.\nPlease contact Lindsay Rockwell for zoom link if interested: emonrock@mac.com \nFormat Focus: EVERYONE READS! \n\nCo-create and reading and listening experience that is generous\, dynamic\, and heart-felt.\nRead a 3-minute piece\nBrief positive responses after readers share\nListeners welcome
URL:https://strawdogwriters.org/event/15452/2029-06-10
CATEGORIES:Events for Members,Open Mic,Straw Dog Event
ATTACH;FMTTYPE=image/png:https://strawdogwriters.org/wp-content/uploads/2025/12/Everyone-Reads-2nd-Sundays-updated.png
END:VEVENT
BEGIN:VEVENT
DTSTART;TZID=America/New_York:20290708T180000
DTEND;TZID=America/New_York:20290708T200000
DTSTAMP:20260421T102013
CREATED:20251206T133213Z
LAST-MODIFIED:20260216T233509Z
UID:10001848-1878228000-1878235200@strawdogwriters.org
SUMMARY:Second Sundays Virtual Open Mic
DESCRIPTION:Come create community on second Sundays of every month 6-8pm EST with a virtual open mic on zoom.\nPlease contact Lindsay Rockwell for zoom link if interested: emonrock@mac.com \nFormat Focus: EVERYONE READS! \n\nCo-create and reading and listening experience that is generous\, dynamic\, and heart-felt.\nRead a 3-minute piece\nBrief positive responses after readers share\nListeners welcome
URL:https://strawdogwriters.org/event/15452/2029-07-08
CATEGORIES:Events for Members,Open Mic,Straw Dog Event
ATTACH;FMTTYPE=image/png:https://strawdogwriters.org/wp-content/uploads/2025/12/Everyone-Reads-2nd-Sundays-updated.png
END:VEVENT
BEGIN:VEVENT
DTSTART;TZID=America/New_York:20290812T180000
DTEND;TZID=America/New_York:20290812T200000
DTSTAMP:20260421T102013
CREATED:20251206T133213Z
LAST-MODIFIED:20260216T233509Z
UID:10001849-1881252000-1881259200@strawdogwriters.org
SUMMARY:Second Sundays Virtual Open Mic
DESCRIPTION:Come create community on second Sundays of every month 6-8pm EST with a virtual open mic on zoom.\nPlease contact Lindsay Rockwell for zoom link if interested: emonrock@mac.com \nFormat Focus: EVERYONE READS! \n\nCo-create and reading and listening experience that is generous\, dynamic\, and heart-felt.\nRead a 3-minute piece\nBrief positive responses after readers share\nListeners welcome
URL:https://strawdogwriters.org/event/15452/2029-08-12
CATEGORIES:Events for Members,Open Mic,Straw Dog Event
ATTACH;FMTTYPE=image/png:https://strawdogwriters.org/wp-content/uploads/2025/12/Everyone-Reads-2nd-Sundays-updated.png
END:VEVENT
END:VCALENDAR