BEGIN:VCALENDAR
VERSION:2.0
PRODID:-//Straw Dog Writers Guild - ECPv6.15.12.2//NONSGML v1.0//EN
CALSCALE:GREGORIAN
METHOD:PUBLISH
X-WR-CALNAME:Straw Dog Writers Guild
X-ORIGINAL-URL:https://strawdogwriters.org
X-WR-CALDESC:Events for Straw Dog Writers Guild
REFRESH-INTERVAL;VALUE=DURATION:PT1H
X-Robots-Tag:noindex
X-PUBLISHED-TTL:PT1H
BEGIN:VTIMEZONE
TZID:America/New_York
BEGIN:DAYLIGHT
TZOFFSETFROM:-0500
TZOFFSETTO:-0400
TZNAME:EDT
DTSTART:20250309T070000
END:DAYLIGHT
BEGIN:STANDARD
TZOFFSETFROM:-0400
TZOFFSETTO:-0500
TZNAME:EST
DTSTART:20251102T060000
END:STANDARD
BEGIN:DAYLIGHT
TZOFFSETFROM:-0500
TZOFFSETTO:-0400
TZNAME:EDT
DTSTART:20260308T070000
END:DAYLIGHT
BEGIN:STANDARD
TZOFFSETFROM:-0400
TZOFFSETTO:-0500
TZNAME:EST
DTSTART:20261101T060000
END:STANDARD
BEGIN:DAYLIGHT
TZOFFSETFROM:-0500
TZOFFSETTO:-0400
TZNAME:EDT
DTSTART:20270314T070000
END:DAYLIGHT
BEGIN:STANDARD
TZOFFSETFROM:-0400
TZOFFSETTO:-0500
TZNAME:EST
DTSTART:20271107T060000
END:STANDARD
END:VTIMEZONE
BEGIN:VEVENT
DTSTART;TZID=America/New_York:20260429T183000
DTEND;TZID=America/New_York:20260429T200000
DTSTAMP:20260421T070602
CREATED:20260330T115434Z
LAST-MODIFIED:20260330T115434Z
UID:10001941-1777487400-1777492800@strawdogwriters.org
SUMMARY:Inspired Poetry Share
DESCRIPTION:Enjoy an evening of reading and listening to poetry!\n\nBring your newest work\, your favorite work\, or a poem you read from another poet. We come together on a quarterly basis to read our work and or the work of others and enjoy filling our ears and hearts with poetry. This is a safe space to share your poetry. There is no critiquing\, just appreciation for sharing inspired words.\n\nAnd for those of you who do appreciate a theme here is this session’s challenge by choice: Ephemeral: consider transitions\, something fleeting yet consistent\, spring ephemerals\, and either create or find poetry on this topic.\n\nCome read and listen on Wednesday\, April 29 from 6:30-8:00pm in the Belding Memorial Library Meeting Room with poet Arianna Alexsandra Collins of Offerings for Community Building. Tea and treats will be served.\n\nSponsored by Belding Memorial Library and Straw Dog Writers Guild.\n\nThis program is free and open to the public. Please register by contacting Belding Memorial Library at bmlashfield@gmail.com or 413-628-4414.\n\nThe Library is located at 344 Main St. in Ashfield\, MA.
URL:https://strawdogwriters.org/event/inspired-poetry-share-2
CATEGORIES:Events for Members,Poetry Share
ATTACH;FMTTYPE=image/jpeg:https://strawdogwriters.org/wp-content/uploads/2026/03/Inspired-Poetry-Share-FB-cover.jpg
END:VEVENT
BEGIN:VEVENT
DTSTART;TZID=America/New_York:20260520T130000
DTEND;TZID=America/New_York:20260520T153000
DTSTAMP:20260421T070602
CREATED:20260324T194644Z
LAST-MODIFIED:20260330T203458Z
UID:10001938-1779282000-1779291000@strawdogwriters.org
SUMMARY:Poetry Critique Meet Up in May
DESCRIPTION:Poetry Critique Meet-up on Zoom is a chance for poets to give and receive immediate constructive feedback on their poems by everyone in attendance.  Learn what is working in your poems\, and what may need revision. Contribute your observations to other poets. Be fascinated by the breadth of the written word. \nRegister for Wednesday May 20\, 1-3:30 pm.  Cost: by donation. Suggested sliding scale $25-40. No one turned away for lack of funds. Limited to five participants. Register early. Please sign up for one session per month. Register HERE. Questions – email:  hammerandhorn@gmail.com\n\nThese workshops are made possible in part through the Eli Daniel Nemetz Todd Memorial Fund. Please make your donation through the Center for the Arts via Paypal here\, via Venmo @Northampton-CenterForTheArts\, or by mailing a check made out to NCFA to PO Box 366\, Northampton\, MA 01061. Please note Poetry/Prose in the memo line.  Donations on the upper end of the scale help support our continued commitment to accessibility. If you need financial support\, please apply through NCFA’s Community Fund.\n\nFacilitator: Michael Favala Goldman is author of seven poetry collections and translator of nineteen books. His work has appeared in scores of publications such as The New Yorker\, The Harvard Review\, and Rattle Magazine. https://michaelfavalagoldman.com/\n\nMichael’s blog about the Poetry Critique Meet-up: http://strawdogwriters.org/blog/poetry-meet-up
URL:https://strawdogwriters.org/event/poetry-critique-meet-up-in-may-20
LOCATION:Northampton Center for the Arts\, 33 Hawley St.\, Northampton\, MA\, 01060\, United States
CATEGORIES:Events for Members,Poetry Share,Workshops
ATTACH;FMTTYPE=image/png:https://strawdogwriters.org/wp-content/uploads/2024/11/Poetry-Critique-Meet-up-wSDWG-CftA-logos.png
ORGANIZER;CN="Straw Dog Writers Guild":MAILTO:admin@strawdogwriters.org
END:VEVENT
END:VCALENDAR