BEGIN:VCALENDAR
VERSION:2.0
PRODID:-//Straw Dog Writers Guild - ECPv6.15.12.2//NONSGML v1.0//EN
CALSCALE:GREGORIAN
METHOD:PUBLISH
X-ORIGINAL-URL:https://strawdogwriters.org
X-WR-CALDESC:Events for Straw Dog Writers Guild
REFRESH-INTERVAL;VALUE=DURATION:PT1H
X-Robots-Tag:noindex
X-PUBLISHED-TTL:PT1H
BEGIN:VTIMEZONE
TZID:America/New_York
BEGIN:DAYLIGHT
TZOFFSETFROM:-0500
TZOFFSETTO:-0400
TZNAME:EDT
DTSTART:20290311T070000
END:DAYLIGHT
BEGIN:STANDARD
TZOFFSETFROM:-0400
TZOFFSETTO:-0500
TZNAME:EST
DTSTART:20291104T060000
END:STANDARD
BEGIN:DAYLIGHT
TZOFFSETFROM:-0500
TZOFFSETTO:-0400
TZNAME:EDT
DTSTART:20300310T070000
END:DAYLIGHT
BEGIN:STANDARD
TZOFFSETFROM:-0400
TZOFFSETTO:-0500
TZNAME:EST
DTSTART:20301103T060000
END:STANDARD
BEGIN:DAYLIGHT
TZOFFSETFROM:-0500
TZOFFSETTO:-0400
TZNAME:EDT
DTSTART:20310309T070000
END:DAYLIGHT
BEGIN:STANDARD
TZOFFSETFROM:-0400
TZOFFSETTO:-0500
TZNAME:EST
DTSTART:20311102T060000
END:STANDARD
END:VTIMEZONE
BEGIN:VEVENT
DTSTART;TZID=America/New_York:20301204T190000
DTEND;TZID=America/New_York:20301204T200000
DTSTAMP:20260423T001956
CREATED:20251206T130729Z
LAST-MODIFIED:20251206T130729Z
UID:10001726-1922641200-1922644800@strawdogwriters.org
SUMMARY:Straw Dog Writes
DESCRIPTION:Straw Dog Writers Guild members who would like to spend some time writing together can join a Zoom session. We will spend 15 minutes on introductions\, a 45 minute writing session\, have a 15 minute discussion\, then write for a second 45 minute period of time. Afterwards\, the Zoom room will remain open for a half hour for discussion and chat. \nTo register and receive the zoom link\, contact Steven D. Brewer at sdbrewer@stevendbrewer.com
URL:https://strawdogwriters.org/event/straw-dog-writes/2030-12-04
LOCATION:ZOOM\, MA
CATEGORIES:Events for Members,Writing Group
ATTACH;FMTTYPE=image/png:https://strawdogwriters.org/wp-content/uploads/2023/09/Straw-Dog-Writes-Wednesdays-at-7pm-on-Zoom.png
END:VEVENT
END:VCALENDAR