BEGIN:VCALENDAR
VERSION:2.0
PRODID:-//Straw Dog Writers Guild - ECPv6.15.12.2//NONSGML v1.0//EN
CALSCALE:GREGORIAN
METHOD:PUBLISH
X-ORIGINAL-URL:https://strawdogwriters.org
X-WR-CALDESC:Events for Straw Dog Writers Guild
REFRESH-INTERVAL;VALUE=DURATION:PT1H
X-Robots-Tag:noindex
X-PUBLISHED-TTL:PT1H
BEGIN:VTIMEZONE
TZID:America/New_York
BEGIN:DAYLIGHT
TZOFFSETFROM:-0500
TZOFFSETTO:-0400
TZNAME:EDT
DTSTART:20250309T070000
END:DAYLIGHT
BEGIN:STANDARD
TZOFFSETFROM:-0400
TZOFFSETTO:-0500
TZNAME:EST
DTSTART:20251102T060000
END:STANDARD
BEGIN:DAYLIGHT
TZOFFSETFROM:-0500
TZOFFSETTO:-0400
TZNAME:EDT
DTSTART:20260308T070000
END:DAYLIGHT
BEGIN:STANDARD
TZOFFSETFROM:-0400
TZOFFSETTO:-0500
TZNAME:EST
DTSTART:20261101T060000
END:STANDARD
BEGIN:DAYLIGHT
TZOFFSETFROM:-0500
TZOFFSETTO:-0400
TZNAME:EDT
DTSTART:20270314T070000
END:DAYLIGHT
BEGIN:STANDARD
TZOFFSETFROM:-0400
TZOFFSETTO:-0500
TZNAME:EST
DTSTART:20271107T060000
END:STANDARD
END:VTIMEZONE
BEGIN:VEVENT
DTSTART;TZID=America/New_York:20260415T190000
DTEND;TZID=America/New_York:20260415T200000
DTSTAMP:20260421T102152
CREATED:20251206T130729Z
LAST-MODIFIED:20251206T130729Z
UID:10001484-1776279600-1776283200@strawdogwriters.org
SUMMARY:Straw Dog Writes
DESCRIPTION:Straw Dog Writers Guild members who would like to spend some time writing together can join a Zoom session. We will spend 15 minutes on introductions\, a 45 minute writing session\, have a 15 minute discussion\, then write for a second 45 minute period of time. Afterwards\, the Zoom room will remain open for a half hour for discussion and chat. \nTo register and receive the zoom link\, contact Steven D. Brewer at sdbrewer@stevendbrewer.com
URL:https://strawdogwriters.org/event/straw-dog-writes/2026-04-15
LOCATION:ZOOM\, MA
CATEGORIES:Events for Members,Writing Group
ATTACH;FMTTYPE=image/png:https://strawdogwriters.org/wp-content/uploads/2023/09/Straw-Dog-Writes-Wednesdays-at-7pm-on-Zoom.png
END:VEVENT
BEGIN:VEVENT
DTSTART;TZID=America/New_York:20260408T190000
DTEND;TZID=America/New_York:20260408T200000
DTSTAMP:20260421T102152
CREATED:20251206T130729Z
LAST-MODIFIED:20251206T130729Z
UID:10001483-1775674800-1775678400@strawdogwriters.org
SUMMARY:Straw Dog Writes
DESCRIPTION:Straw Dog Writers Guild members who would like to spend some time writing together can join a Zoom session. We will spend 15 minutes on introductions\, a 45 minute writing session\, have a 15 minute discussion\, then write for a second 45 minute period of time. Afterwards\, the Zoom room will remain open for a half hour for discussion and chat. \nTo register and receive the zoom link\, contact Steven D. Brewer at sdbrewer@stevendbrewer.com
URL:https://strawdogwriters.org/event/straw-dog-writes/2026-04-08
LOCATION:ZOOM\, MA
CATEGORIES:Events for Members,Writing Group
ATTACH;FMTTYPE=image/png:https://strawdogwriters.org/wp-content/uploads/2023/09/Straw-Dog-Writes-Wednesdays-at-7pm-on-Zoom.png
END:VEVENT
BEGIN:VEVENT
DTSTART;TZID=America/New_York:20260401T190000
DTEND;TZID=America/New_York:20260401T200000
DTSTAMP:20260421T102152
CREATED:20251206T130729Z
LAST-MODIFIED:20251206T130729Z
UID:10001482-1775070000-1775073600@strawdogwriters.org
SUMMARY:Straw Dog Writes
DESCRIPTION:Straw Dog Writers Guild members who would like to spend some time writing together can join a Zoom session. We will spend 15 minutes on introductions\, a 45 minute writing session\, have a 15 minute discussion\, then write for a second 45 minute period of time. Afterwards\, the Zoom room will remain open for a half hour for discussion and chat. \nTo register and receive the zoom link\, contact Steven D. Brewer at sdbrewer@stevendbrewer.com
URL:https://strawdogwriters.org/event/straw-dog-writes/2026-04-01
LOCATION:ZOOM\, MA
CATEGORIES:Events for Members,Writing Group
ATTACH;FMTTYPE=image/png:https://strawdogwriters.org/wp-content/uploads/2023/09/Straw-Dog-Writes-Wednesdays-at-7pm-on-Zoom.png
END:VEVENT
BEGIN:VEVENT
DTSTART;TZID=America/New_York:20260325T190000
DTEND;TZID=America/New_York:20260325T200000
DTSTAMP:20260421T102152
CREATED:20251206T130729Z
LAST-MODIFIED:20251206T130729Z
UID:10001481-1774465200-1774468800@strawdogwriters.org
SUMMARY:Straw Dog Writes
DESCRIPTION:Straw Dog Writers Guild members who would like to spend some time writing together can join a Zoom session. We will spend 15 minutes on introductions\, a 45 minute writing session\, have a 15 minute discussion\, then write for a second 45 minute period of time. Afterwards\, the Zoom room will remain open for a half hour for discussion and chat. \nTo register and receive the zoom link\, contact Steven D. Brewer at sdbrewer@stevendbrewer.com
URL:https://strawdogwriters.org/event/straw-dog-writes/2026-03-25
LOCATION:ZOOM\, MA
CATEGORIES:Events for Members,Writing Group
ATTACH;FMTTYPE=image/png:https://strawdogwriters.org/wp-content/uploads/2023/09/Straw-Dog-Writes-Wednesdays-at-7pm-on-Zoom.png
END:VEVENT
BEGIN:VEVENT
DTSTART;TZID=America/New_York:20260318T190000
DTEND;TZID=America/New_York:20260318T200000
DTSTAMP:20260421T102152
CREATED:20251206T130729Z
LAST-MODIFIED:20251206T130729Z
UID:10001480-1773860400-1773864000@strawdogwriters.org
SUMMARY:Straw Dog Writes
DESCRIPTION:Straw Dog Writers Guild members who would like to spend some time writing together can join a Zoom session. We will spend 15 minutes on introductions\, a 45 minute writing session\, have a 15 minute discussion\, then write for a second 45 minute period of time. Afterwards\, the Zoom room will remain open for a half hour for discussion and chat. \nTo register and receive the zoom link\, contact Steven D. Brewer at sdbrewer@stevendbrewer.com
URL:https://strawdogwriters.org/event/straw-dog-writes/2026-03-18
LOCATION:ZOOM\, MA
CATEGORIES:Events for Members,Writing Group
ATTACH;FMTTYPE=image/png:https://strawdogwriters.org/wp-content/uploads/2023/09/Straw-Dog-Writes-Wednesdays-at-7pm-on-Zoom.png
END:VEVENT
BEGIN:VEVENT
DTSTART;TZID=America/New_York:20260311T190000
DTEND;TZID=America/New_York:20260311T200000
DTSTAMP:20260421T102152
CREATED:20251206T130729Z
LAST-MODIFIED:20251206T130729Z
UID:10001479-1773255600-1773259200@strawdogwriters.org
SUMMARY:Straw Dog Writes
DESCRIPTION:Straw Dog Writers Guild members who would like to spend some time writing together can join a Zoom session. We will spend 15 minutes on introductions\, a 45 minute writing session\, have a 15 minute discussion\, then write for a second 45 minute period of time. Afterwards\, the Zoom room will remain open for a half hour for discussion and chat. \nTo register and receive the zoom link\, contact Steven D. Brewer at sdbrewer@stevendbrewer.com
URL:https://strawdogwriters.org/event/straw-dog-writes/2026-03-11
LOCATION:ZOOM\, MA
CATEGORIES:Events for Members,Writing Group
ATTACH;FMTTYPE=image/png:https://strawdogwriters.org/wp-content/uploads/2023/09/Straw-Dog-Writes-Wednesdays-at-7pm-on-Zoom.png
END:VEVENT
BEGIN:VEVENT
DTSTART;TZID=America/New_York:20260304T190000
DTEND;TZID=America/New_York:20260304T200000
DTSTAMP:20260421T102152
CREATED:20251206T130729Z
LAST-MODIFIED:20251206T130729Z
UID:10001478-1772650800-1772654400@strawdogwriters.org
SUMMARY:Straw Dog Writes
DESCRIPTION:Straw Dog Writers Guild members who would like to spend some time writing together can join a Zoom session. We will spend 15 minutes on introductions\, a 45 minute writing session\, have a 15 minute discussion\, then write for a second 45 minute period of time. Afterwards\, the Zoom room will remain open for a half hour for discussion and chat. \nTo register and receive the zoom link\, contact Steven D. Brewer at sdbrewer@stevendbrewer.com
URL:https://strawdogwriters.org/event/straw-dog-writes/2026-03-04
LOCATION:ZOOM\, MA
CATEGORIES:Events for Members,Writing Group
ATTACH;FMTTYPE=image/png:https://strawdogwriters.org/wp-content/uploads/2023/09/Straw-Dog-Writes-Wednesdays-at-7pm-on-Zoom.png
END:VEVENT
BEGIN:VEVENT
DTSTART;TZID=America/New_York:20260225T190000
DTEND;TZID=America/New_York:20260225T200000
DTSTAMP:20260421T102152
CREATED:20251206T130729Z
LAST-MODIFIED:20251206T130729Z
UID:10001477-1772046000-1772049600@strawdogwriters.org
SUMMARY:Straw Dog Writes
DESCRIPTION:Straw Dog Writers Guild members who would like to spend some time writing together can join a Zoom session. We will spend 15 minutes on introductions\, a 45 minute writing session\, have a 15 minute discussion\, then write for a second 45 minute period of time. Afterwards\, the Zoom room will remain open for a half hour for discussion and chat. \nTo register and receive the zoom link\, contact Steven D. Brewer at sdbrewer@stevendbrewer.com
URL:https://strawdogwriters.org/event/straw-dog-writes/2026-02-25
LOCATION:ZOOM\, MA
CATEGORIES:Events for Members,Writing Group
ATTACH;FMTTYPE=image/png:https://strawdogwriters.org/wp-content/uploads/2023/09/Straw-Dog-Writes-Wednesdays-at-7pm-on-Zoom.png
END:VEVENT
BEGIN:VEVENT
DTSTART;TZID=America/New_York:20260218T190000
DTEND;TZID=America/New_York:20260218T200000
DTSTAMP:20260421T102152
CREATED:20251206T130729Z
LAST-MODIFIED:20251206T130729Z
UID:10001476-1771441200-1771444800@strawdogwriters.org
SUMMARY:Straw Dog Writes
DESCRIPTION:Straw Dog Writers Guild members who would like to spend some time writing together can join a Zoom session. We will spend 15 minutes on introductions\, a 45 minute writing session\, have a 15 minute discussion\, then write for a second 45 minute period of time. Afterwards\, the Zoom room will remain open for a half hour for discussion and chat. \nTo register and receive the zoom link\, contact Steven D. Brewer at sdbrewer@stevendbrewer.com
URL:https://strawdogwriters.org/event/straw-dog-writes/2026-02-18
LOCATION:ZOOM\, MA
CATEGORIES:Events for Members,Writing Group
ATTACH;FMTTYPE=image/png:https://strawdogwriters.org/wp-content/uploads/2023/09/Straw-Dog-Writes-Wednesdays-at-7pm-on-Zoom.png
END:VEVENT
BEGIN:VEVENT
DTSTART;TZID=America/New_York:20260211T190000
DTEND;TZID=America/New_York:20260211T200000
DTSTAMP:20260421T102153
CREATED:20251206T130729Z
LAST-MODIFIED:20251206T130729Z
UID:10001475-1770836400-1770840000@strawdogwriters.org
SUMMARY:Straw Dog Writes
DESCRIPTION:Straw Dog Writers Guild members who would like to spend some time writing together can join a Zoom session. We will spend 15 minutes on introductions\, a 45 minute writing session\, have a 15 minute discussion\, then write for a second 45 minute period of time. Afterwards\, the Zoom room will remain open for a half hour for discussion and chat. \nTo register and receive the zoom link\, contact Steven D. Brewer at sdbrewer@stevendbrewer.com
URL:https://strawdogwriters.org/event/straw-dog-writes/2026-02-11
LOCATION:ZOOM\, MA
CATEGORIES:Events for Members,Writing Group
ATTACH;FMTTYPE=image/png:https://strawdogwriters.org/wp-content/uploads/2023/09/Straw-Dog-Writes-Wednesdays-at-7pm-on-Zoom.png
END:VEVENT
BEGIN:VEVENT
DTSTART;TZID=America/New_York:20260204T190000
DTEND;TZID=America/New_York:20260204T200000
DTSTAMP:20260421T102153
CREATED:20251206T130729Z
LAST-MODIFIED:20251206T130729Z
UID:10001474-1770231600-1770235200@strawdogwriters.org
SUMMARY:Straw Dog Writes
DESCRIPTION:Straw Dog Writers Guild members who would like to spend some time writing together can join a Zoom session. We will spend 15 minutes on introductions\, a 45 minute writing session\, have a 15 minute discussion\, then write for a second 45 minute period of time. Afterwards\, the Zoom room will remain open for a half hour for discussion and chat. \nTo register and receive the zoom link\, contact Steven D. Brewer at sdbrewer@stevendbrewer.com
URL:https://strawdogwriters.org/event/straw-dog-writes/2026-02-04
LOCATION:ZOOM\, MA
CATEGORIES:Events for Members,Writing Group
ATTACH;FMTTYPE=image/png:https://strawdogwriters.org/wp-content/uploads/2023/09/Straw-Dog-Writes-Wednesdays-at-7pm-on-Zoom.png
END:VEVENT
BEGIN:VEVENT
DTSTART;TZID=America/New_York:20260128T190000
DTEND;TZID=America/New_York:20260128T200000
DTSTAMP:20260421T102153
CREATED:20251206T130729Z
LAST-MODIFIED:20251206T130729Z
UID:10001473-1769626800-1769630400@strawdogwriters.org
SUMMARY:Straw Dog Writes
DESCRIPTION:Straw Dog Writers Guild members who would like to spend some time writing together can join a Zoom session. We will spend 15 minutes on introductions\, a 45 minute writing session\, have a 15 minute discussion\, then write for a second 45 minute period of time. Afterwards\, the Zoom room will remain open for a half hour for discussion and chat. \nTo register and receive the zoom link\, contact Steven D. Brewer at sdbrewer@stevendbrewer.com
URL:https://strawdogwriters.org/event/straw-dog-writes/2026-01-28
LOCATION:ZOOM\, MA
CATEGORIES:Events for Members,Writing Group
ATTACH;FMTTYPE=image/png:https://strawdogwriters.org/wp-content/uploads/2023/09/Straw-Dog-Writes-Wednesdays-at-7pm-on-Zoom.png
END:VEVENT
BEGIN:VEVENT
DTSTART;TZID=America/New_York:20260121T190000
DTEND;TZID=America/New_York:20260121T200000
DTSTAMP:20260421T102153
CREATED:20251206T130729Z
LAST-MODIFIED:20251206T130729Z
UID:10001472-1769022000-1769025600@strawdogwriters.org
SUMMARY:Straw Dog Writes
DESCRIPTION:Straw Dog Writers Guild members who would like to spend some time writing together can join a Zoom session. We will spend 15 minutes on introductions\, a 45 minute writing session\, have a 15 minute discussion\, then write for a second 45 minute period of time. Afterwards\, the Zoom room will remain open for a half hour for discussion and chat. \nTo register and receive the zoom link\, contact Steven D. Brewer at sdbrewer@stevendbrewer.com
URL:https://strawdogwriters.org/event/straw-dog-writes/2026-01-21
LOCATION:ZOOM\, MA
CATEGORIES:Events for Members,Writing Group
ATTACH;FMTTYPE=image/png:https://strawdogwriters.org/wp-content/uploads/2023/09/Straw-Dog-Writes-Wednesdays-at-7pm-on-Zoom.png
END:VEVENT
BEGIN:VEVENT
DTSTART;TZID=America/New_York:20260114T190000
DTEND;TZID=America/New_York:20260114T200000
DTSTAMP:20260421T102153
CREATED:20251206T130729Z
LAST-MODIFIED:20251206T130729Z
UID:10001471-1768417200-1768420800@strawdogwriters.org
SUMMARY:Straw Dog Writes
DESCRIPTION:Straw Dog Writers Guild members who would like to spend some time writing together can join a Zoom session. We will spend 15 minutes on introductions\, a 45 minute writing session\, have a 15 minute discussion\, then write for a second 45 minute period of time. Afterwards\, the Zoom room will remain open for a half hour for discussion and chat. \nTo register and receive the zoom link\, contact Steven D. Brewer at sdbrewer@stevendbrewer.com
URL:https://strawdogwriters.org/event/straw-dog-writes/2026-01-14
LOCATION:ZOOM\, MA
CATEGORIES:Events for Members,Writing Group
ATTACH;FMTTYPE=image/png:https://strawdogwriters.org/wp-content/uploads/2023/09/Straw-Dog-Writes-Wednesdays-at-7pm-on-Zoom.png
END:VEVENT
BEGIN:VEVENT
DTSTART;TZID=America/New_York:20260107T190000
DTEND;TZID=America/New_York:20260107T200000
DTSTAMP:20260421T102153
CREATED:20251206T130729Z
LAST-MODIFIED:20251206T130729Z
UID:10001470-1767812400-1767816000@strawdogwriters.org
SUMMARY:Straw Dog Writes
DESCRIPTION:Straw Dog Writers Guild members who would like to spend some time writing together can join a Zoom session. We will spend 15 minutes on introductions\, a 45 minute writing session\, have a 15 minute discussion\, then write for a second 45 minute period of time. Afterwards\, the Zoom room will remain open for a half hour for discussion and chat. \nTo register and receive the zoom link\, contact Steven D. Brewer at sdbrewer@stevendbrewer.com
URL:https://strawdogwriters.org/event/straw-dog-writes/2026-01-07
LOCATION:ZOOM\, MA
CATEGORIES:Events for Members,Writing Group
ATTACH;FMTTYPE=image/png:https://strawdogwriters.org/wp-content/uploads/2023/09/Straw-Dog-Writes-Wednesdays-at-7pm-on-Zoom.png
END:VEVENT
END:VCALENDAR