BEGIN:VCALENDAR
VERSION:2.0
PRODID:-//Straw Dog Writers Guild - ECPv6.15.12.2//NONSGML v1.0//EN
CALSCALE:GREGORIAN
METHOD:PUBLISH
X-ORIGINAL-URL:https://strawdogwriters.org
X-WR-CALDESC:Events for Straw Dog Writers Guild
REFRESH-INTERVAL;VALUE=DURATION:PT1H
X-Robots-Tag:noindex
X-PUBLISHED-TTL:PT1H
BEGIN:VTIMEZONE
TZID:America/New_York
BEGIN:DAYLIGHT
TZOFFSETFROM:-0500
TZOFFSETTO:-0400
TZNAME:EDT
DTSTART:20230312T070000
END:DAYLIGHT
BEGIN:STANDARD
TZOFFSETFROM:-0400
TZOFFSETTO:-0500
TZNAME:EST
DTSTART:20231105T060000
END:STANDARD
BEGIN:DAYLIGHT
TZOFFSETFROM:-0500
TZOFFSETTO:-0400
TZNAME:EDT
DTSTART:20240310T070000
END:DAYLIGHT
BEGIN:STANDARD
TZOFFSETFROM:-0400
TZOFFSETTO:-0500
TZNAME:EST
DTSTART:20241103T060000
END:STANDARD
BEGIN:DAYLIGHT
TZOFFSETFROM:-0500
TZOFFSETTO:-0400
TZNAME:EDT
DTSTART:20250309T070000
END:DAYLIGHT
BEGIN:STANDARD
TZOFFSETFROM:-0400
TZOFFSETTO:-0500
TZNAME:EST
DTSTART:20251102T060000
END:STANDARD
BEGIN:DAYLIGHT
TZOFFSETFROM:-0500
TZOFFSETTO:-0400
TZNAME:EDT
DTSTART:20260308T070000
END:DAYLIGHT
BEGIN:STANDARD
TZOFFSETFROM:-0400
TZOFFSETTO:-0500
TZNAME:EST
DTSTART:20261101T060000
END:STANDARD
END:VTIMEZONE
BEGIN:VEVENT
DTSTART;TZID=America/New_York:20250320T080000
DTEND;TZID=America/New_York:20250515T180000
DTSTAMP:20260421T045238
CREATED:20250320T101833Z
LAST-MODIFIED:20250415T142746Z
UID:10000862-1742457600-1747332000@strawdogwriters.org
SUMMARY:WriteAngles Call for Proposals!
DESCRIPTION:Be part of the only writers conference in Western Massachusetts! If you are an experienced writing professional or teacher of writing submit a proposal to be part of the 2025 WriteAngles Conference HERE. \nIf you have an idea for a session that you would like to see at the conference\, you can submit that idea HERE. \nWe can’t wait to hear your ideas! \n 
URL:https://strawdogwriters.org/event/writeangles-call-for-proposals
CATEGORIES:Events for Members,Looking for...,Submissions & Contests
ATTACH;FMTTYPE=image/jpeg:https://strawdogwriters.org/wp-content/uploads/2025/03/Call-for-Proposals-2025-WA-Poster-1.jpg
ORGANIZER;CN="Straw Dog Writers Guild":MAILTO:admin@strawdogwriters.org
END:VEVENT
BEGIN:VEVENT
DTSTART;TZID=America/New_York:20241015T000000
DTEND;TZID=America/New_York:20241218T000000
DTSTAMP:20260421T045238
CREATED:20241009T175533Z
LAST-MODIFIED:20241018T170507Z
UID:10000712-1728950400-1734480000@strawdogwriters.org
SUMMARY:Annual Author Showcase Call for Member Submissions
DESCRIPTION:Call to SDWG members who published a book in 2024…\nSubmit your name for the drawing of readers at the 11th Annual Author Showcase: A Celebration of Members’ Books.\nMark your calendars: Saturday\, January 26\, 2025\, 2:30 – 4:00 p.m.\, a hybrid event in person at the Northampton Friends Meetinghouse and online on Zoom.\nStraw Dog Writers Guild invites Straw Dog Writers Guild members with a book published in 2024 to read as part of the 2025 annual Author Showcase. If interested in being part of the Showcase\, please indicate your interest by emailing strawdogsubmission@gmail.com.\nThe deadline to express interest is midnight December 18th. We will let authors know by December 21st. Authors will be selected at random by drawing names from a hat.\nTen readers will have five minutes each to read from their work. If you are in person\, you will have the chance to sell books in person; otherwise we put will links to your books in the chat.\nOnce chosen\, you will need to provide a brief bio and photograph for publicity and Showcase program.
URL:https://strawdogwriters.org/event/annual-author-showcase-call-for-member-submissions
CATEGORIES:Events for Members,Straw Dog Event,Submissions & Contests
ATTACH;FMTTYPE=image/png:https://strawdogwriters.org/wp-content/uploads/2024/10/2025-Call-for-Author-Showcase.png
ORGANIZER;CN="Straw Dog Writers Guild":MAILTO:admin@strawdogwriters.org
END:VEVENT
END:VCALENDAR