BEGIN:VCALENDAR
VERSION:2.0
PRODID:-//Straw Dog Writers Guild - ECPv6.15.12.2//NONSGML v1.0//EN
CALSCALE:GREGORIAN
METHOD:PUBLISH
X-ORIGINAL-URL:https://strawdogwriters.org
X-WR-CALDESC:Events for Straw Dog Writers Guild
REFRESH-INTERVAL;VALUE=DURATION:PT1H
X-Robots-Tag:noindex
X-PUBLISHED-TTL:PT1H
BEGIN:VTIMEZONE
TZID:America/New_York
BEGIN:DAYLIGHT
TZOFFSETFROM:-0500
TZOFFSETTO:-0400
TZNAME:EDT
DTSTART:20250309T070000
END:DAYLIGHT
BEGIN:STANDARD
TZOFFSETFROM:-0400
TZOFFSETTO:-0500
TZNAME:EST
DTSTART:20251102T060000
END:STANDARD
BEGIN:DAYLIGHT
TZOFFSETFROM:-0500
TZOFFSETTO:-0400
TZNAME:EDT
DTSTART:20260308T070000
END:DAYLIGHT
BEGIN:STANDARD
TZOFFSETFROM:-0400
TZOFFSETTO:-0500
TZNAME:EST
DTSTART:20261101T060000
END:STANDARD
BEGIN:DAYLIGHT
TZOFFSETFROM:-0500
TZOFFSETTO:-0400
TZNAME:EDT
DTSTART:20270314T070000
END:DAYLIGHT
BEGIN:STANDARD
TZOFFSETFROM:-0400
TZOFFSETTO:-0500
TZNAME:EST
DTSTART:20271107T060000
END:STANDARD
END:VTIMEZONE
BEGIN:VEVENT
DTSTART;TZID=America/New_York:20260509T180000
DTEND;TZID=America/New_York:20260509T193000
DTSTAMP:20260421T084329
CREATED:20260418T171129Z
LAST-MODIFIED:20260418T172730Z
UID:10001944-1778349600-1778355000@strawdogwriters.org
SUMMARY:Virtual Poetry Book Launch!
DESCRIPTION:Join Straw Dog Writers Guild members and poets Edward Doyle-Gillespie and Trisha Leigh Shufelt for the virtual book launch of their new books of poetry! \nEach poet will read from their new chapbook followed by conversation and audience questions. \nPlease register for this event HERE. \n \nDoyle-Gillespie is a Baltimore City poet and writer. He holds a BA in History from George Washington University\, and a Master of Liberal Arts from Johns Hopkins University. His poems are drawn from his world travel\, and his work in education\, and law enforcement. He served as a Baltimore City police officer for 19 years\, working in patrol\, operations\, intelligence\, and instruction. He currently teaches English at the Baltimore Leadership School for Young Women. \nThese poems represent his fascination with history and culture\, and how those forces play roles in the most intimate parts of our lives. He gathers the raw material of the human condition as he travels the globe\, reads\, teaches\, and learns. His books of poetry include Masala Tea and Oranges\, On the Later Addition of Sancho Panza\, Socorro Prophecy\, Gentrifying the Plague House\, Aerial Act\, and Father of the Red Grotto Used Bookstore. His most recent title is The Slow Lament of Dying Ice. \nHe lives in Baltimore\, with his wife\, a wee bairn\, and one rather rotund guinea pig. In his free time\, he enjoys reading\, martial arts\, a hearty primal workout\, and a proper cup of green tea. https://edoylegillespie.com/ \nTrisha Leigh Shufelt is an award-winning confessional/narrative poet and artist. Her books are available online\, in bookshops\, and her work has been featured in several magazines and poetry anthologies. Notably\, her poetry book\, The Ghosts of Nevermore-Poetry\, Prose\, and Short Stories Inspired by Edgar Allan Poe was the winner of a 2023 Saturday Visiter (yes\, it is spelled that way) Award from the Poe House & Museum of Baltimore\, MD. \n  \nHer most recent poetry collection through Kelsay Books\, Thundering on the Pink is now available through their website and online. Trisha’s latest books Inside a Lemon Moon\, and In Pieces\, as well as others published by Art in Soul are available wherever online books are sold. \nShe is also the author and artist behind the Poe Tarot and the Everglow Divination System through Schiffer Publishing. You can find out more about her at thepoetrymoth.com or trishaleighpoetry.com. \n  \n  \n 
URL:https://strawdogwriters.org/event/virtual-poetry-book-launch
LOCATION:ZOOM\, MA
CATEGORIES:Book Launch,Discussion,Poetry,Readings
ATTACH;FMTTYPE=image/png:https://strawdogwriters.org/wp-content/uploads/2026/04/Poetry-2.png
ORGANIZER;CN="Straw Dog Writers Guild":MAILTO:admin@strawdogwriters.org
END:VEVENT
END:VCALENDAR