BEGIN:VCALENDAR
VERSION:2.0
PRODID:-//Straw Dog Writers Guild - ECPv6.15.12.2//NONSGML v1.0//EN
CALSCALE:GREGORIAN
METHOD:PUBLISH
X-WR-CALNAME:Straw Dog Writers Guild
X-ORIGINAL-URL:https://strawdogwriters.org
X-WR-CALDESC:Events for Straw Dog Writers Guild
REFRESH-INTERVAL;VALUE=DURATION:PT1H
X-Robots-Tag:noindex
X-PUBLISHED-TTL:PT1H
BEGIN:VTIMEZONE
TZID:America/New_York
BEGIN:DAYLIGHT
TZOFFSETFROM:-0500
TZOFFSETTO:-0400
TZNAME:EDT
DTSTART:20250309T070000
END:DAYLIGHT
BEGIN:STANDARD
TZOFFSETFROM:-0400
TZOFFSETTO:-0500
TZNAME:EST
DTSTART:20251102T060000
END:STANDARD
BEGIN:DAYLIGHT
TZOFFSETFROM:-0500
TZOFFSETTO:-0400
TZNAME:EDT
DTSTART:20260308T070000
END:DAYLIGHT
BEGIN:STANDARD
TZOFFSETFROM:-0400
TZOFFSETTO:-0500
TZNAME:EST
DTSTART:20261101T060000
END:STANDARD
BEGIN:DAYLIGHT
TZOFFSETFROM:-0500
TZOFFSETTO:-0400
TZNAME:EDT
DTSTART:20270314T070000
END:DAYLIGHT
BEGIN:STANDARD
TZOFFSETFROM:-0400
TZOFFSETTO:-0500
TZNAME:EST
DTSTART:20271107T060000
END:STANDARD
END:VTIMEZONE
BEGIN:VEVENT
DTSTART;TZID=America/New_York:20260404T123000
DTEND;TZID=America/New_York:20260404T140000
DTSTAMP:20260421T101215
CREATED:20260304T192239Z
LAST-MODIFIED:20260310T180459Z
UID:10001928-1775305800-1775311200@strawdogwriters.org
SUMMARY:Cracking Open Your Poetic Process
DESCRIPTION:Cracking Open Your Poetic Process: a roundtable experiment in stimulating our personal approaches to writing poetry.\n\n\nCo-facilitated by Lindsay Rockwell and Becky Jones \n\nSaturday\, April 4\, 2026\, 12:30 – 2:00 p.m.\nCoolidge Museum at Forbes Library\n20 West Street\, Northampton\n\nIn this roundtable experiment\, up to twelve poets will gather to share reflections\, ideas and strategies about our creative processes for writing and revising poetry. We will explore each other’s methods; we will write\, discuss\, brainstorm\, and spark each other’s creative juices.  \nLindsay and Becky would be delighted to have you join them. \n\nThere is limited space for this roundtable discussion. Please register HERE.
URL:https://strawdogwriters.org/event/cracking-open-your-poetic-process
LOCATION:Forbes Library\, Coolidge Museum\, 20 West Street\, Northampton\, 01060
CATEGORIES:Discussion,Events for Members,Straw Dog Event
ATTACH;FMTTYPE=image/png:https://strawdogwriters.org/wp-content/uploads/2026/03/2026.04.04-Poetry-Roundtable.png
ORGANIZER;CN="Straw Dog Writers Guild":MAILTO:admin@strawdogwriters.org
END:VEVENT
END:VCALENDAR